BEGIN:VCALENDAR
VERSION:2.0
PRODID:-//Belmont BEC - ECPv6.15.20//NONSGML v1.0//EN
CALSCALE:GREGORIAN
METHOD:PUBLISH
X-WR-CALNAME:Belmont BEC
X-ORIGINAL-URL:https://belmontbec.com
X-WR-CALDESC:Events for Belmont BEC
REFRESH-INTERVAL;VALUE=DURATION:PT1H
X-Robots-Tag:noindex
X-PUBLISHED-TTL:PT1H
BEGIN:VTIMEZONE
TZID:Australia/Perth
BEGIN:STANDARD
TZOFFSETFROM:+0800
TZOFFSETTO:+0800
TZNAME:AWST
DTSTART:20250101T000000
END:STANDARD
END:VTIMEZONE
BEGIN:VEVENT
DTSTART;TZID=Australia/Perth:20260428T093000
DTEND;TZID=Australia/Perth:20260428T110000
DTSTAMP:20260421T181018
CREATED:20260129T062133Z
LAST-MODIFIED:20260415T044152Z
UID:39285-1777368600-1777374000@belmontbec.com
SUMMARY:Chat with Your Spreadsheet: Insights Without the Headache - 28th April\, Tuesday\, 9:30am-11:00am (AWST Perth)
DESCRIPTION:‘LIVE’ AI WEBINAR SERIES\n‘AI for Everyday Business’\npresented by Dr Eunice Sari \nChat with Your Spreadsheet: Insights Without the Headache – $110 \n28th April\, Tuesday\, 9:30am-11:00am (AWST Perth) BOOKINGS \nYou don’t need to be a math expert to understand your sales figures. We will show you\nhow to securely upload a spreadsheet to an AI tool and simply ask it questions like\,\n“Which day was my busiest?” or “What product is losing me money?”
URL:https://belmontbec.com/event/chat-with-your-spreadsheet-insights-without-the-headache-april-28th-tuesday-9am-11am-awst-perth/
CATEGORIES:Webinar
END:VEVENT
END:VCALENDAR