BEGIN:VCALENDAR
VERSION:2.0
PRODID:-//Belmont BEC - ECPv6.15.20//NONSGML v1.0//EN
CALSCALE:GREGORIAN
METHOD:PUBLISH
X-ORIGINAL-URL:https://belmontbec.com
X-WR-CALDESC:Events for Belmont BEC
REFRESH-INTERVAL;VALUE=DURATION:PT1H
X-Robots-Tag:noindex
X-PUBLISHED-TTL:PT1H
BEGIN:VTIMEZONE
TZID:Australia/Perth
BEGIN:STANDARD
TZOFFSETFROM:+0800
TZOFFSETTO:+0800
TZNAME:AWST
DTSTART:20250101T000000
END:STANDARD
END:VTIMEZONE
BEGIN:VEVENT
DTSTART;TZID=Australia/Perth:20260429T170000
DTEND;TZID=Australia/Perth:20260429T190000
DTSTAMP:20260421T221406
CREATED:20260330T061110Z
LAST-MODIFIED:20260407T074008Z
UID:39587-1777482000-1777489200@belmontbec.com
SUMMARY:Belmont Business ‘Ask an Expert’ Sundowner\, 29th April\, 5-7PM
DESCRIPTION:You are invited to ‘Ask an Expert’ Belmont Business Sundowner! \nCome along to meet WA’s first Humanoid Robot with Paul Faix\, Fortix.   \nWhen: Wed\, 29th April\, 5pm-7pm\nVENUE: Firehouse Restaurant\, Country Comfort 249-263 Grt Eastern Highway Belmont (Cnr Hardey Rd)\nNetworking – every attendee will be invited to introduce themselves and their business. \n\nGuest Speakers \n\n \n  \nNote: individual purchases or if you are reserving additional tickets\nEmail events@belmontbec.com – name/business/email of additional tickets\nThis is required for name badge\, catering and seating capacity. \n\n\nBuild your Business Support Networks\nDoor Prizes: Belmont BEC $200 Bronze BBEC Membership \nBecome a Member Belmont BEC www.belmontbec.com/membership \n\n\nFREE ENTRY | BOOKINGS ESSENTIAL: Register online\, email or ph. 9479 3777 \nThanks to our Business Sundowner supporters
URL:https://belmontbec.com/event/belmont-business-ask-an-expert-sundowner-29th-april-5-7pm/
END:VEVENT
END:VCALENDAR