BEGIN:VCALENDAR
VERSION:2.0
PRODID:-//Belmont BEC - ECPv6.15.20//NONSGML v1.0//EN
CALSCALE:GREGORIAN
METHOD:PUBLISH
X-WR-CALNAME:Belmont BEC
X-ORIGINAL-URL:https://belmontbec.com
X-WR-CALDESC:Events for Belmont BEC
REFRESH-INTERVAL;VALUE=DURATION:PT1H
X-Robots-Tag:noindex
X-PUBLISHED-TTL:PT1H
BEGIN:VTIMEZONE
TZID:UTC
BEGIN:STANDARD
TZOFFSETFROM:+0000
TZOFFSETTO:+0000
TZNAME:UTC
DTSTART:20150101T000000
END:STANDARD
END:VTIMEZONE
BEGIN:VEVENT
DTSTART;TZID=UTC:20161130T110000
DTEND;TZID=UTC:20161130T123000
DTSTAMP:20260423T174742
CREATED:20161114T232401Z
LAST-MODIFIED:20161115T182042Z
UID:6022-1480503600-1480509000@belmontbec.com
SUMMARY:Get a Professional – Working with an Financial Planner
DESCRIPTION:This part will cover the followings to consider: \n\nDo you know how to link with a financial planner?\nLike to how the tips and traps of seeing a financial planner?\nHow to prepare to see a financial planner?\nDo you know the fees for a financial planner?
URL:https://belmontbec.com/event/get-professional-working-financial-planner/
CATEGORIES:Webinar
ATTACH;FMTTYPE=image/png:https://belmontbec.com/wp-content/uploads/2015/12/tcf_wa_logo75.png
END:VEVENT
BEGIN:VEVENT
DTSTART;TZID=UTC:20161123T110000
DTEND;TZID=UTC:20161123T123000
DTSTAMP:20260423T174742
CREATED:20161114T232045Z
LAST-MODIFIED:20161115T182038Z
UID:6019-1479898800-1479904200@belmontbec.com
SUMMARY:Get Serious – Developing your Retirement Income Plan
DESCRIPTION:This part will cover the followings to consider: \n\nAre you prepared to develop a plan to action your retirement goals?\nAre you prepared to monitor and adjust your plans?\nAre you aware of the pitfalls to your retirement income?\nAre you considering changes that may happen to your personal situations?\nAre you aware of transition to retirement contributions?\nHave you discussed retirement incomes with your spouse/ partner?
URL:https://belmontbec.com/event/get-serious-developing-retirement-income-plan/
CATEGORIES:Webinar
ATTACH;FMTTYPE=image/png:https://belmontbec.com/wp-content/uploads/2015/12/tcf_wa_logo75.png
END:VEVENT
BEGIN:VEVENT
DTSTART;TZID=UTC:20161121T130000
DTEND;TZID=UTC:20161121T160000
DTSTAMP:20260423T174742
CREATED:20160822T221235Z
LAST-MODIFIED:20160823T210715Z
UID:5277-1479733200-1479744000@belmontbec.com
SUMMARY:Tax for Small Business Workshop
DESCRIPTION:Tax for small business is a free workshop developed for small businesses.\nIt will provide you with an overview of the taxation and superannuation obligations associated with starting and operating your small business. \nThe workshop will look at subjects like\n·         different business structures\n·         registering your business\n·         goods and services tax\n·         income tax and claiming deductions\n·         record keeping\n·         how to prepare and lodge your activity statements \nThe workshop also covers employer obligations\, such as pay as you go withholding and superannuation\, if you have or are intending to employ people. \n\n		\nLocation:\nBelmont BEC\,\nUnit 3\, 216 Belmont Avenue\, Cloverdale
URL:https://belmontbec.com/event/tax-for-small-business-workshop-5/
ATTACH;FMTTYPE=image/jpeg:https://belmontbec.com/wp-content/uploads/2016/04/word-image-15.jpg
END:VEVENT
BEGIN:VEVENT
DTSTART;TZID=UTC:20161116T110000
DTEND;TZID=UTC:20161116T123000
DTSTAMP:20260423T174742
CREATED:20161114T230637Z
LAST-MODIFIED:20161115T182014Z
UID:6015-1479294000-1479299400@belmontbec.com
SUMMARY:Get Started - Is Retirement in your Business plan?
DESCRIPTION:This Part will cover the following points to consider: \n\nWas retirement in your plan when you started your business or job?\nDo you know how long you intend to carry on your business or working life?\nDo you want to retire?\nDo you know your current financial position? e.g. super\, assets\, liabilities\nDo you have a budget for what income you will need to retire?\nDo you have vision of the lifestyle you would like to enjoy in retirement?\nDo you know how much money you need to reserve to retire on?\nDo you know how superannuation works?\nDo you know the tools needed\, costs involved\, who will assist you?
URL:https://belmontbec.com/event/get-started-retirement-business-plan/
CATEGORIES:Webinar
ATTACH;FMTTYPE=image/png:https://belmontbec.com/wp-content/uploads/2015/12/tcf_wa_logo75.png
END:VEVENT
BEGIN:VEVENT
DTSTART;TZID=UTC:20161108T100000
DTEND;TZID=UTC:20161108T113000
DTSTAMP:20260423T174742
CREATED:20161017T205808Z
LAST-MODIFIED:20161017T205808Z
UID:5318-1478599200-1478604600@belmontbec.com
SUMMARY:How to get Free Publicity for your Business
DESCRIPTION:How anyone can get free publicity on TV\, radio\, newspapers\, magazines and online and create more sales. \nImagine your business being feature on TV like Today Tonight\, the Today Show\, The Project\, Sunrise\, or Sky Business News; or radio like 6PR\, in magazines like New Idea\, in newspapers like the West Australian\, the Australian or an online news services. \nJoin journalist and publicity expert Sue Papadoulis from Publicity for Profit and she will walk you through the process of getting media exposure for you and your business. \nThrough this workshop you will learn: \n1. The fastest and easiest way to get publicity right now.\n2. Why it’s all about your story – not the size of your business.\n3. What you need in a press release\n4. How the media really works\n5. Why you don’t need to hire an expensive public relations firm ever again. \n\nAbout the Presenter:Sue Papadoulis and the Publicity for Profit team have helped thousands of people in Perth and around Australia – who didn’t think there was anything interesting about them and their business – get excellent publicity.\nTheir students have appeared on just about every major TV program including Sunrise\, Today Show\, The Project\, Wake Up\, A Current Affair\, Today Tonight and others – as well as a host of newspapers\, magazines\, radio programs and blogs.    
URL:https://belmontbec.com/event/how-to-get-free-publicity-for-your-business-2/
CATEGORIES:Workshop
ATTACH;FMTTYPE=image/jpeg:https://belmontbec.com/wp-content/uploads/2016/04/word-image-15.jpg
END:VEVENT
BEGIN:VEVENT
DTSTART;TZID=UTC:20161013T130000
DTEND;TZID=UTC:20161013T160000
DTSTAMP:20260423T174742
CREATED:20160822T215255Z
LAST-MODIFIED:20160823T210712Z
UID:5274-1476363600-1476374400@belmontbec.com
SUMMARY:Tax for Small Business Workshop
DESCRIPTION:Tax for small business is a free workshop developed for small businesses.\nIt will provide you with an overview of the taxation and superannuation obligations associated with starting and operating your small business. \nThe workshop will look at subjects like\n·         different business structures\n·         registering your business\n·         goods and services tax\n·         income tax and claiming deductions\n·         record keeping\n·         how to prepare and lodge your activity statements \nThe workshop also covers employer obligations\, such as pay as you go withholding and superannuation\, if you have or are intending to employ people. \n\n		\nLocation:\nBelmont BEC\,\nUnit 3\, 216 Belmont Avenue\, Cloverdale
URL:https://belmontbec.com/event/tax-for-small-business-workshop-4/
ATTACH;FMTTYPE=image/jpeg:https://belmontbec.com/wp-content/uploads/2016/04/word-image-15.jpg
END:VEVENT
BEGIN:VEVENT
DTSTART;TZID=UTC:20161005T100000
DTEND;TZID=UTC:20161005T113000
DTSTAMP:20260423T174742
CREATED:20160920T180945Z
LAST-MODIFIED:20160920T181730Z
UID:5447-1475661600-1475667000@belmontbec.com
SUMMARY:Prepare\, Speak\, Make Money
DESCRIPTION:Want to Grow your Business and Earn More Income?\nOvercome your fear of public speaking and deliver powerful presentations\nMarket your product or service well to grow your business\nCreate a sensational presentation\nDeliver your solution to people all over the world\nBe seen as the authority in your industry \n\n\nSupported By
URL:https://belmontbec.com/event/5447/
CATEGORIES:Event List,Events
ATTACH;FMTTYPE=image/jpeg:https://belmontbec.com/wp-content/uploads/2016/04/word-image-15.jpg
END:VEVENT
BEGIN:VEVENT
DTSTART;TZID=UTC:20160928T170000
DTEND;TZID=UTC:20160928T190000
DTSTAMP:20260423T174742
CREATED:20160628T175824Z
LAST-MODIFIED:20160718T201156Z
UID:4794-1475082000-1475089200@belmontbec.com
SUMMARY:Belmont Business 'Ask An Expert' Sundowner
DESCRIPTION:Belmont Business ‘Ask An Expert’ Sundowner\nWednesday\, 28th September – 5pm \nFunction Room\, The Belmont\, 174 Wright St\, Cloverdale\nwww.belmontbec.com/events
URL:https://belmontbec.com/event/4794/
CATEGORIES:Event List,Events,Workshops List
ATTACH;FMTTYPE=image/jpeg:https://belmontbec.com/wp-content/uploads/2016/02/BBS-draft-banner-no1-2-1-scaled.jpg
END:VEVENT
BEGIN:VEVENT
DTSTART;TZID=UTC:20160922T130000
DTEND;TZID=UTC:20160922T160000
DTSTAMP:20260423T174742
CREATED:20160822T214852Z
LAST-MODIFIED:20160823T210710Z
UID:5273-1474549200-1474560000@belmontbec.com
SUMMARY:Tax for Small Business Workshop
DESCRIPTION:Tax for small business is a free workshop developed for small businesses.\nIt will provide you with an overview of the taxation and superannuation obligations associated with starting and operating your small business. \nThe workshop will look at subjects like\n·         different business structures\n·         registering your business\n·         goods and services tax\n·         income tax and claiming deductions\n·         record keeping\n·         how to prepare and lodge your activity statements \nThe workshop also covers employer obligations\, such as pay as you go withholding and superannuation\, if you have or are intending to employ people. \n\n		\nLocation:\nBelmont BEC\,\nUnit 3\, 216 Belmont Avenue\, Cloverdale
URL:https://belmontbec.com/event/tax-small-business-workshop-2/
ATTACH;FMTTYPE=image/jpeg:https://belmontbec.com/wp-content/uploads/2016/04/word-image-15.jpg
END:VEVENT
BEGIN:VEVENT
DTSTART;TZID=UTC:20160922T120000
DTEND;TZID=UTC:20160922T140000
DTSTAMP:20260423T174742
CREATED:20160913T175905Z
LAST-MODIFIED:20160913T175905Z
UID:5395-1474545600-1474552800@belmontbec.com
SUMMARY:Preparing an Award Submission\, Belmont & Western Australian Small Business Awards
DESCRIPTION:Tips on preparing your Award Submission and impressing the Judging Panel
URL:https://belmontbec.com/event/preparing-award-submission-belmont-western-australian-small-business-awards-3/
END:VEVENT
BEGIN:VEVENT
DTSTART;TZID=UTC:20160919T190000
DTEND;TZID=UTC:20160919T210000
DTSTAMP:20260423T174742
CREATED:20160801T181513Z
LAST-MODIFIED:20160801T181513Z
UID:5114-1474311600-1474318800@belmontbec.com
SUMMARY:New Opportunity for Women to Learn About Retirement Income Planning
DESCRIPTION:New Opportunity for Women to Learn About Retirement Income Planning\nwww.bpwbusinessincubator.com/retirement \nJoin us at the Official Project Launch BPW Forum – September 19th\, 7pm-9pm\nGuest Speakers will share insights on how to prepare and how to action your plan towards Retirement Income Planning.  Register for Mentoring and vouchers for FREE online webinars on Retirement Income Planning.\nVenue: Function Room\, The Belmont\, 174 Wright St.\, Cloverdale.\nBookings www.belmontbec.com/events
URL:https://belmontbec.com/event/5114/
CATEGORIES:Event List,Events
ATTACH;FMTTYPE=image/jpeg:https://belmontbec.com/wp-content/uploads/2015/12/bbeclogo50.jpg
END:VEVENT
BEGIN:VEVENT
DTSTART;TZID=UTC:20160915T120000
DTEND;TZID=UTC:20160915T140000
DTSTAMP:20260423T174742
CREATED:20160913T175847Z
LAST-MODIFIED:20160913T175847Z
UID:5396-1473940800-1473948000@belmontbec.com
SUMMARY:Preparing an Award Submission\, Belmont & Western Australian Small Business Awards
DESCRIPTION:Tips on preparing your Award Submission and impressing the Judging Panel
URL:https://belmontbec.com/event/preparing-award-submission-belmont-western-australian-small-business-awards-2/
END:VEVENT
BEGIN:VEVENT
DTSTART;TZID=UTC:20160908T120000
DTEND;TZID=UTC:20160908T140000
DTSTAMP:20260423T174742
CREATED:20160801T181524Z
LAST-MODIFIED:20160801T181524Z
UID:5127-1473336000-1473343200@belmontbec.com
SUMMARY:Preparing an Award Submission\, Belmont & Western Australian Small Business Awards
DESCRIPTION:Tips on preparing your Award Submission and impressing the Judging Panel
URL:https://belmontbec.com/event/preparing-an-award-submission-belmont-western-australian-small-business-awards-2/
CATEGORIES:Events,Workshop,Workshops List
ATTACH;FMTTYPE=image/jpeg:https://belmontbec.com/wp-content/uploads/2016/05/00012.jpg
END:VEVENT
BEGIN:VEVENT
DTSTART;TZID=UTC:20160906T100000
DTEND;TZID=UTC:20160906T113000
DTSTAMP:20260423T174742
CREATED:20160822T214302Z
LAST-MODIFIED:20160822T214302Z
UID:5228-1473156000-1473161400@belmontbec.com
SUMMARY:Prepare\, Speak\, Make Money
DESCRIPTION:Want to Grow your Business and Earn More Income?\nOvercome your fear of public speaking and deliver powerful presentations\nMarket your product or service well to grow your business\nCreate a sensational presentation\nDeliver your solution to people all over the world\nBe seen as the authority in your industry \n\n\nSupported By
URL:https://belmontbec.com/event/prepare-speak-make-money/
CATEGORIES:Events
ATTACH;FMTTYPE=image/jpeg:https://belmontbec.com/wp-content/uploads/2016/04/word-image-15.jpg
END:VEVENT
BEGIN:VEVENT
DTSTART;TZID=UTC:20160901T120000
DTEND;TZID=UTC:20160901T140000
DTSTAMP:20260423T174742
CREATED:20160824T201936Z
LAST-MODIFIED:20160824T201936Z
UID:5295-1472731200-1472738400@belmontbec.com
SUMMARY:Preparing and Award Submission
DESCRIPTION:Tips on preparing your Award Submission and impressing the Judging Panel
URL:https://belmontbec.com/event/preparing-and-award-submission/
LOCATION:Belmont Business Enterprise Centre\, Unit 3\, 216 Belmont Avenue\, Cloverdale\, Western Australia\, 6105\, Australia
CATEGORIES:Events,Workshop
ATTACH;FMTTYPE=image/jpeg:https://belmontbec.com/wp-content/uploads/2015/12/bbeclogo50.jpg
END:VEVENT
BEGIN:VEVENT
DTSTART;TZID=UTC:20160831T170000
DTEND;TZID=UTC:20160831T190000
DTSTAMP:20260423T174742
CREATED:20160628T175759Z
LAST-MODIFIED:20160816T190609Z
UID:4793-1472662800-1472670000@belmontbec.com
SUMMARY:Belmont Business 'Ask An Expert' Sundowner
DESCRIPTION:Belmont Business ‘Ask An Expert’ Sundowner\nWednesday\, 31st August – 5pm \nFunction Room\, The Belmont\, 174 Wright St\, Cloverdale\nwww.belmontbec.com/events
URL:https://belmontbec.com/event/4793/
CATEGORIES:Event List,Events,Workshops List
ATTACH;FMTTYPE=image/jpeg:https://belmontbec.com/wp-content/uploads/2016/02/BBS-draft-banner-no1-2-1-scaled.jpg
END:VEVENT
BEGIN:VEVENT
DTSTART;TZID=UTC:20160825T143000
DTEND;TZID=UTC:20160825T153000
DTSTAMP:20260423T174742
CREATED:20160626T221343Z
LAST-MODIFIED:20160626T221343Z
UID:4726-1472135400-1472139000@belmontbec.com
SUMMARY:Webinar - Quality Control in Apparel Manufacturing
DESCRIPTION:Be better prepared and organised to ensure the best quality controls. \nClick here for product
URL:https://belmontbec.com/event/webinar-quality-control-in-apparel-manufacturing-2/
CATEGORIES:Webinar
ATTACH;FMTTYPE=image/jpeg:https://belmontbec.com/wp-content/uploads/2015/12/bbeclogo50.jpg
END:VEVENT
BEGIN:VEVENT
DTSTART;TZID=UTC:20160825T130000
DTEND;TZID=UTC:20160825T140000
DTSTAMP:20260423T174742
CREATED:20160626T221151Z
LAST-MODIFIED:20160626T221151Z
UID:4724-1472130000-1472133600@belmontbec.com
SUMMARY:Webinar - What Buyers Are Really Looking For
DESCRIPTION:Understand their needs to reach them. \nClick here for product
URL:https://belmontbec.com/event/webinar-what-buyers-are-really-looking-for/
CATEGORIES:Webinar
ATTACH;FMTTYPE=image/jpeg:https://belmontbec.com/wp-content/uploads/2015/12/bbeclogo50.jpg
END:VEVENT
BEGIN:VEVENT
DTSTART;TZID=UTC:20160825T120000
DTEND;TZID=UTC:20160825T140000
DTSTAMP:20260423T174742
CREATED:20160801T181519Z
LAST-MODIFIED:20160801T181519Z
UID:5123-1472126400-1472133600@belmontbec.com
SUMMARY:Preparing an Award Submission\, Belmont & Western Australian Small Business Awards
DESCRIPTION:Tips on preparing your Award Submission and impressing the Judging Panel
URL:https://belmontbec.com/event/preparing-award-submission-belmont-western-australian-small-business-awards/
CATEGORIES:Events,Workshop,Workshops List
ATTACH;FMTTYPE=image/jpeg:https://belmontbec.com/wp-content/uploads/2016/05/00012.jpg
END:VEVENT
BEGIN:VEVENT
DTSTART;TZID=UTC:20160825T110000
DTEND;TZID=UTC:20160825T120000
DTSTAMP:20260423T174742
CREATED:20160626T220725Z
LAST-MODIFIED:20160626T220725Z
UID:4722-1472122800-1472126400@belmontbec.com
SUMMARY:Webinar - Italian Fashion Media - How to Get Noticed
DESCRIPTION:Tips on how to get noticed by the Italian Fashion Media. \nClick here for product
URL:https://belmontbec.com/event/webinar-italian-fashion-media-how-to-get-noticed-2/
CATEGORIES:Webinar
ATTACH;FMTTYPE=image/jpeg:https://belmontbec.com/wp-content/uploads/2015/12/bbeclogo50.jpg
END:VEVENT
BEGIN:VEVENT
DTSTART;TZID=UTC:20160825T093000
DTEND;TZID=UTC:20160825T103000
DTSTAMP:20260423T174742
CREATED:20160626T220505Z
LAST-MODIFIED:20160626T220505Z
UID:4720-1472117400-1472121000@belmontbec.com
SUMMARY:Webinar - Avoiding Apparel Manufacturing Pitfalls
DESCRIPTION:Minimise problems before they become a major issue\, be prepared. \nClick here for Product
URL:https://belmontbec.com/event/webinar-avoiding-apparel-manufacturing-pitfalls-2/
CATEGORIES:Webinar
ATTACH;FMTTYPE=image/jpeg:https://belmontbec.com/wp-content/uploads/2015/12/bbeclogo50.jpg
END:VEVENT
BEGIN:VEVENT
DTSTART;TZID=UTC:20160823T160000
DTEND;TZID=UTC:20160823T170000
DTSTAMP:20260423T174742
CREATED:20160626T205756Z
LAST-MODIFIED:20160626T205756Z
UID:4674-1471968000-1471971600@belmontbec.com
SUMMARY:Webinar - Understanding the Australian Privacy Changes
DESCRIPTION:Introduction to Privacy Amendments Act. \nClick here for Product
URL:https://belmontbec.com/event/webinar-understanding-the-australian-privacy-changes-2-2/
CATEGORIES:Webinar
ATTACH;FMTTYPE=image/jpeg:https://belmontbec.com/wp-content/uploads/2015/12/bbeclogo50.jpg
END:VEVENT
BEGIN:VEVENT
DTSTART;TZID=UTC:20160823T143000
DTEND;TZID=UTC:20160823T153000
DTSTAMP:20260423T174742
CREATED:20160626T204623Z
LAST-MODIFIED:20160626T204623Z
UID:4672-1471962600-1471966200@belmontbec.com
SUMMARY:Webinar - Importing and Exporting
DESCRIPTION:Lower the risk of failure when you import or export. \nClick here for product
URL:https://belmontbec.com/event/webinar-importing-and-exporting/
CATEGORIES:Webinar
ATTACH;FMTTYPE=image/jpeg:https://belmontbec.com/wp-content/uploads/2015/12/bbeclogo50.jpg
END:VEVENT
BEGIN:VEVENT
DTSTART;TZID=UTC:20160823T130000
DTEND;TZID=UTC:20160823T140000
DTSTAMP:20260423T174742
CREATED:20160626T203828Z
LAST-MODIFIED:20170927T070818Z
UID:4667-1471957200-1471960800@belmontbec.com
SUMMARY:Webinar - Global Platform for Action on Sourcing From Women Vendors
DESCRIPTION:Linking women owned businesses around the globe – buying & selling. \n click here for product
URL:https://belmontbec.com/event/webinar-global-platform-for-action-on-sourcing-from-women-vendors-2-2/
CATEGORIES:Webinar
ATTACH;FMTTYPE=image/jpeg:https://belmontbec.com/wp-content/uploads/2015/12/bbeclogo50.jpg
END:VEVENT
BEGIN:VEVENT
DTSTART;TZID=UTC:20160823T110000
DTEND;TZID=UTC:20160823T120000
DTSTAMP:20260423T174742
CREATED:20160626T203217Z
LAST-MODIFIED:20160626T203217Z
UID:4664-1471950000-1471953600@belmontbec.com
SUMMARY:Webinar - Credit Management And Debt Collection
DESCRIPTION:Manage your business cash flow & debt collection. \nClick here for product
URL:https://belmontbec.com/event/webinar-credit-management-debt-collection/
CATEGORIES:Webinar
ATTACH;FMTTYPE=image/jpeg:https://belmontbec.com/wp-content/uploads/2015/12/bbeclogo50.jpg
END:VEVENT
BEGIN:VEVENT
DTSTART;TZID=UTC:20160823T093000
DTEND;TZID=UTC:20160823T103000
DTSTAMP:20260423T174742
CREATED:20160626T202609Z
LAST-MODIFIED:20160626T204026Z
UID:4661-1471944600-1471948200@belmontbec.com
SUMMARY:Webinar - UN Global Compact - Women's Empowerment Principles
DESCRIPTION:United Nations Global Compact Women’s Empowerment Principles. \nClick here for Product
URL:https://belmontbec.com/event/webinar-un-global-compact-womens-empowerment-principles/
CATEGORIES:Webinar
ATTACH;FMTTYPE=image/jpeg:https://belmontbec.com/wp-content/uploads/2015/12/bbeclogo50.jpg
END:VEVENT
BEGIN:VEVENT
DTSTART;TZID=UTC:20160822T130000
DTEND;TZID=UTC:20160822T160000
DTSTAMP:20260423T174742
CREATED:20160728T234447Z
LAST-MODIFIED:20160801T211718Z
UID:5133-1471870800-1471881600@belmontbec.com
SUMMARY:Tax for Small Business Workshop
DESCRIPTION:Tax for small business is a free workshop developed for small businesses.\nIt will provide you with an overview of the taxation and superannuation obligations associated with starting and operating your small business. \nThe workshop will look at subjects like\n·         different business structures\n·         registering your business\n·         goods and services tax\n·         income tax and claiming deductions\n·         record keeping\n·         how to prepare and lodge your activity statements \nThe workshop also covers employer obligations\, such as pay as you go withholding and superannuation\, if you have or are intending to employ people. \nRegister At: events@belmontbec.com \nLocation:\nBelmont BEC\,\nUnit 3\, 216 Belmont Avenue\, Cloverdale
URL:https://belmontbec.com/event/tax-for-small-business-workshop-3/
ATTACH;FMTTYPE=image/jpeg:https://belmontbec.com/wp-content/uploads/2016/04/word-image-34.jpg
END:VEVENT
BEGIN:VEVENT
DTSTART;TZID=UTC:20160818T143000
DTEND;TZID=UTC:20160818T153000
DTSTAMP:20260423T174742
CREATED:20160626T221548Z
LAST-MODIFIED:20160626T221548Z
UID:4727-1471530600-1471534200@belmontbec.com
SUMMARY:Webinar - Establishing Label in the USA
DESCRIPTION:Establish your apparel business goals in the USA. \n Click here for Product
URL:https://belmontbec.com/event/webinar-establishing-label-in-the-usa/
CATEGORIES:Webinar
ATTACH;FMTTYPE=image/jpeg:https://belmontbec.com/wp-content/uploads/2015/12/bbeclogo50.jpg
END:VEVENT
BEGIN:VEVENT
DTSTART;TZID=UTC:20160818T130000
DTEND;TZID=UTC:20160818T140000
DTSTAMP:20260423T174742
CREATED:20160626T215909Z
LAST-MODIFIED:20160626T215909Z
UID:4715-1471525200-1471528800@belmontbec.com
SUMMARY:Webinar - Sustainable Sourcing
DESCRIPTION:Sustainable Sourcing via Hong Kong Trade Development Council. \nClick here for Product
URL:https://belmontbec.com/event/webinar-sustainable-sourcing/
CATEGORIES:Webinar
ATTACH;FMTTYPE=image/jpeg:https://belmontbec.com/wp-content/uploads/2015/12/bbeclogo50.jpg
END:VEVENT
BEGIN:VEVENT
DTSTART;TZID=UTC:20160818T110000
DTEND;TZID=UTC:20160818T120000
DTSTAMP:20260423T174742
CREATED:20160626T220204Z
LAST-MODIFIED:20160626T220204Z
UID:4718-1471518000-1471521600@belmontbec.com
SUMMARY:Webinar - Strategies for Offshore Sourcing
DESCRIPTION:Tips on offshore sourcing and risk management. \n Click here for product
URL:https://belmontbec.com/event/webinar-strategies-for-offshore-sourcing-2/
CATEGORIES:Webinar
ATTACH;FMTTYPE=image/jpeg:https://belmontbec.com/wp-content/uploads/2015/12/bbeclogo50.jpg
END:VEVENT
END:VCALENDAR