BEGIN:VCALENDAR
VERSION:2.0
PRODID:-//Belmont BEC - ECPv6.15.20//NONSGML v1.0//EN
CALSCALE:GREGORIAN
METHOD:PUBLISH
X-WR-CALNAME:Belmont BEC
X-ORIGINAL-URL:https://belmontbec.com
X-WR-CALDESC:Events for Belmont BEC
REFRESH-INTERVAL;VALUE=DURATION:PT1H
X-Robots-Tag:noindex
X-PUBLISHED-TTL:PT1H
BEGIN:VTIMEZONE
TZID:UTC
BEGIN:STANDARD
TZOFFSETFROM:+0000
TZOFFSETTO:+0000
TZNAME:UTC
DTSTART:20150101T000000
END:STANDARD
END:VTIMEZONE
BEGIN:VEVENT
DTSTART;TZID=UTC:20160817T130000
DTEND;TZID=UTC:20160817T140000
DTSTAMP:20260423T182325
CREATED:20160626T211144Z
LAST-MODIFIED:20160626T211144Z
UID:4686-1471438800-1471442400@belmontbec.com
SUMMARY:Webinar - Tips on Using Social Media in Your Business
DESCRIPTION:Effectively promote your business and what needs to be done. \nClick here for Product
URL:https://belmontbec.com/event/webinar-tips-on-using-social-media-in-your-business-2-2/
CATEGORIES:Webinar
ATTACH;FMTTYPE=image/jpeg:https://belmontbec.com/wp-content/uploads/2015/12/bbeclogo50.jpg
END:VEVENT
BEGIN:VEVENT
DTSTART;TZID=UTC:20160816T160000
DTEND;TZID=UTC:20160816T170000
DTSTAMP:20260423T182325
CREATED:20160626T201547Z
LAST-MODIFIED:20160626T201547Z
UID:4659-1471363200-1471366800@belmontbec.com
SUMMARY:Webinar - Prepare a Business for Sale
DESCRIPTION:Look at the sale of your business through the eyes of the buyer. \n Click here for Product
URL:https://belmontbec.com/event/webinar-prepare-business-sale-2/
CATEGORIES:Webinar
ATTACH;FMTTYPE=image/jpeg:https://belmontbec.com/wp-content/uploads/2015/12/bbeclogo50.jpg
END:VEVENT
BEGIN:VEVENT
DTSTART;TZID=UTC:20160816T143000
DTEND;TZID=UTC:20160816T153000
DTSTAMP:20260423T182325
CREATED:20160626T200944Z
LAST-MODIFIED:20160626T200944Z
UID:4657-1471357800-1471361400@belmontbec.com
SUMMARY:Webinar - Preparing for a Fashion Trade Event
DESCRIPTION:Steps to prepare before\, during and after a Trade Exhibition. \nClick here for product
URL:https://belmontbec.com/event/webinar-preparing-for-a-fashion-trade-event-2-2/
CATEGORIES:Webinar
ATTACH;FMTTYPE=image/jpeg:https://belmontbec.com/wp-content/uploads/2015/12/bbeclogo50.jpg
END:VEVENT
BEGIN:VEVENT
DTSTART;TZID=UTC:20160816T130000
DTEND;TZID=UTC:20160816T140000
DTSTAMP:20260423T182325
CREATED:20160626T195542Z
LAST-MODIFIED:20160626T195542Z
UID:4652-1471352400-1471356000@belmontbec.com
SUMMARY:Webinar - Marketing on a Budget
DESCRIPTION:How to make the most of your marketing dollars. \nClick here for product
URL:https://belmontbec.com/event/webinar-marketing-budget/
CATEGORIES:Webinar
ATTACH;FMTTYPE=image/jpeg:https://belmontbec.com/wp-content/uploads/2015/12/bbeclogo50.jpg
END:VEVENT
BEGIN:VEVENT
DTSTART;TZID=UTC:20160816T100000
DTEND;TZID=UTC:20160816T120000
DTSTAMP:20260423T182325
CREATED:20160718T234836Z
LAST-MODIFIED:20160718T234836Z
UID:4924-1471341600-1471348800@belmontbec.com
SUMMARY:Financial Literacy for Small Businesses
DESCRIPTION:Can you interpret what your financial reports are telling you about the sustainability of your business?  Do you know that money in the bank account is not the same thing as profit? \nThere will be two sessions to the workshop: \n1. The PROFIT & LOSS STATEMENT \n\nwhat a Profit and Loss Statement is\nexpenses v capital expenditure\nprofit v cash (hint: there is a VERY big difference between the two)\ncash and non-cash items\nconsiderations when reviewing the Profit and Loss Statement\n\n2. The BALANCE SHEET \n\nwhat a Balance Sheet is\ncalculate the net worth of your business\nhow to tell if your business can actually afford its debts\nconsiderations when reviewing the balance sheet.\n\nAttendees will be provided with a checklist of critical questions to ask when reviewing both financial statements. \n\n\n\n  \nAbout the Presenter \n\n  \nGrace Mugabe (CPA) is an experienced management accountant who is passionate about the economic empowerment of women.  Following her recent tenure as a Senior Site Accountant at Rio Tinto\, she developed a boutique consultancy with the aim of providing financial literacy tools.  Her consultancy\, Financially Empowered\, continues to attract government\, private industry and community organisations. \n  \n  Supported By
URL:https://belmontbec.com/event/financial-literacy-small-businesses/
CATEGORIES:Events
ATTACH;FMTTYPE=image/jpeg:https://belmontbec.com/wp-content/uploads/2015/12/bbeclogo50.jpg
END:VEVENT
BEGIN:VEVENT
DTSTART;TZID=UTC:20160816T093000
DTEND;TZID=UTC:20160816T103000
DTSTAMP:20260423T182325
CREATED:20160626T200705Z
LAST-MODIFIED:20160626T200705Z
UID:4655-1471339800-1471343400@belmontbec.com
SUMMARY:Webinar - How to Write a Tender or Grant Submission
DESCRIPTION:Develop your expertise at writing\, submitting tenders & submissions. \nClick here for product
URL:https://belmontbec.com/event/webinar-how-to-write-a-tender-or-grant-submission-2-2/
CATEGORIES:Webinar
ATTACH;FMTTYPE=image/jpeg:https://belmontbec.com/wp-content/uploads/2015/12/bbeclogo50.jpg
END:VEVENT
BEGIN:VEVENT
DTSTART;TZID=UTC:20160811T120000
DTEND;TZID=UTC:20160811T140000
DTSTAMP:20260423T182325
CREATED:20160801T181517Z
LAST-MODIFIED:20160801T181517Z
UID:5118-1470916800-1470924000@belmontbec.com
SUMMARY:Preparing an Award Submission\, Belmont & Western Australian Small Business Awards
DESCRIPTION:Tips on preparing your Award Submission and impressing the Judging Panel
URL:https://belmontbec.com/event/preparing-an-award-submission-belmont-western-australian-small-business-awards/
CATEGORIES:Workshop,Workshops List
ATTACH;FMTTYPE=image/jpeg:https://belmontbec.com/wp-content/uploads/2016/05/00012.jpg
END:VEVENT
BEGIN:VEVENT
DTSTART;TZID=UTC:20160811T093000
DTEND;TZID=UTC:20160811T103000
DTSTAMP:20260423T182325
CREATED:20160626T204933Z
LAST-MODIFIED:20160626T204933Z
UID:4668-1470907800-1470911400@belmontbec.com
SUMMARY:Webinar - Understanding Freight Logistics of Importing/Exporting
DESCRIPTION:Tips on freight options\, air freight\, shipping terms\, express couriers. \nClick here for product
URL:https://belmontbec.com/event/webinar-understanding-freight-logistics-importingexporting/
CATEGORIES:Webinar
ATTACH;FMTTYPE=image/jpeg:https://belmontbec.com/wp-content/uploads/2015/12/bbeclogo50.jpg
END:VEVENT
BEGIN:VEVENT
DTSTART;TZID=UTC:20160810T110000
DTEND;TZID=UTC:20160810T120000
DTSTAMP:20260423T182325
CREATED:20160626T210818Z
LAST-MODIFIED:20160626T210900Z
UID:4679-1470826800-1470830400@belmontbec.com
SUMMARY:Webinar - How To Brief Your Website Developer
DESCRIPTION:How to brief your website developer to your maximum advantage. \nClick here for product
URL:https://belmontbec.com/event/webinar-how-to-brief-your-website-developer-2/
CATEGORIES:Webinar
ATTACH;FMTTYPE=image/jpeg:https://belmontbec.com/wp-content/uploads/2015/12/bbeclogo50.jpg
END:VEVENT
BEGIN:VEVENT
DTSTART;TZID=UTC:20160809T160000
DTEND;TZID=UTC:20160809T170000
DTSTAMP:20260423T182325
CREATED:20160626T195920Z
LAST-MODIFIED:20160626T195951Z
UID:4649-1470758400-1470762000@belmontbec.com
SUMMARY:Webinar - 7 Essentials to Creating Massive Success
DESCRIPTION:Keep these seven tips with you and see a massive improvement and more success in your work. \nClick here for product
URL:https://belmontbec.com/event/webinar-7-essentials-to-creating-massive-success/
CATEGORIES:Webinar
ATTACH;FMTTYPE=image/jpeg:https://belmontbec.com/wp-content/uploads/2015/12/bbeclogo50.jpg
END:VEVENT
BEGIN:VEVENT
DTSTART;TZID=UTC:20160809T143000
DTEND;TZID=UTC:20160809T153000
DTSTAMP:20260423T182325
CREATED:20160626T194758Z
LAST-MODIFIED:20160626T194758Z
UID:4648-1470753000-1470756600@belmontbec.com
SUMMARY:Webinar – Pricing\, Costing & Cashflow
DESCRIPTION:Understand your pricing\, profit margins and your cash flow projections. \nClick here for product
URL:https://belmontbec.com/event/webinar-pricing-costing-cashflow-2/
CATEGORIES:Webinar
ATTACH;FMTTYPE=image/jpeg:https://belmontbec.com/wp-content/uploads/2015/12/bbeclogo50.jpg
END:VEVENT
BEGIN:VEVENT
DTSTART;TZID=UTC:20160809T130000
DTEND;TZID=UTC:20160809T140000
DTSTAMP:20260423T182325
CREATED:20160626T193901Z
LAST-MODIFIED:20160626T194312Z
UID:4643-1470747600-1470751200@belmontbec.com
SUMMARY:Webinar - Get Noticed By The Media
DESCRIPTION:Using online tools when planning your media strategy and get noticed. \nClick here for product
URL:https://belmontbec.com/event/webinar-get-noticed-by-the-media-2/
CATEGORIES:Webinar
ATTACH;FMTTYPE=image/jpeg:https://belmontbec.com/wp-content/uploads/2015/12/bbeclogo50.jpg
END:VEVENT
BEGIN:VEVENT
DTSTART;TZID=UTC:20160809T110000
DTEND;TZID=UTC:20160809T120000
DTSTAMP:20260423T182325
CREATED:20160626T192858Z
LAST-MODIFIED:20160626T192858Z
UID:4641-1470740400-1470744000@belmontbec.com
SUMMARY:Webinar - Customer Service is your Competitive Edge
DESCRIPTION:How to keep customers coming back and boost your business. \nClick here for product
URL:https://belmontbec.com/event/webinar-customer-service-competitive-edge/
CATEGORIES:Webinar
ATTACH;FMTTYPE=image/jpeg:https://belmontbec.com/wp-content/uploads/2015/12/bbeclogo50.jpg
END:VEVENT
BEGIN:VEVENT
DTSTART;TZID=UTC:20160809T093000
DTEND;TZID=UTC:20160809T103000
DTSTAMP:20260423T182325
CREATED:20160626T192254Z
LAST-MODIFIED:20160626T192323Z
UID:4638-1470735000-1470738600@belmontbec.com
SUMMARY:Webinar - How To Grow Your Business
DESCRIPTION:Focus on what is required to grow your business. \nClick here for product
URL:https://belmontbec.com/event/webinar-how-to-grow-your-business/
CATEGORIES:Webinar
ATTACH;FMTTYPE=image/jpeg:https://belmontbec.com/wp-content/uploads/2015/12/bbeclogo50.jpg
END:VEVENT
BEGIN:VEVENT
DTSTART;TZID=UTC:20160804T140000
DTEND;TZID=UTC:20160804T153000
DTSTAMP:20260423T182325
CREATED:20160717T212051Z
LAST-MODIFIED:20160728T192924Z
UID:4885-1470319200-1470324600@belmontbec.com
SUMMARY:How to get Free Publicity for your Business
DESCRIPTION:How anyone can get free publicity on TV\, radio\, newspapers\, magazines and online and create more sales. \nImagine your business being feature on TV like Today Tonight\, the Today Show\, The Project\, Sunrise\, or Sky Business News; or radio like 6PR\, in magazines like New Idea\, in newspapers like the West Australian\, the Australian or an online news services. \nJoin journalist and publicity expert Sue Papadoulis from Publicity for Profit and she will walk you through the process of getting media exposure for you and your business. \nThrough this workshop you will learn: \n1. The fastest and easiest way to get publicity right now.\n2. Why it’s all about your story – not the size of your business.\n3. What you need in a press release\n4. How the media really works\n5. Why you don’t need to hire an expensive public relations firm ever again. \n\nAbout the Presenter:Sue Papadoulis and the Publicity for Profit team have helped thousands of people in Perth and around Australia – who didn’t think there was anything interesting about them and their business – get excellent publicity.\nTheir students have appeared on just about every major TV program including Sunrise\, Today Show\, The Project\, Wake Up\, A Current Affair\, Today Tonight and others – as well as a host of newspapers\, magazines\, radio programs and blogs.    
URL:https://belmontbec.com/event/how-to-get-free-publicity-for-your-business/
CATEGORIES:Event List,Workshop
END:VEVENT
BEGIN:VEVENT
DTSTART;TZID=UTC:20160804T110000
DTEND;TZID=UTC:20160804T120000
DTSTAMP:20260423T182325
CREATED:20160626T212951Z
LAST-MODIFIED:20160626T212951Z
UID:4701-1470308400-1470312000@belmontbec.com
SUMMARY:Webinar - Marketing for Small Fashion Business
DESCRIPTION:Develop your Fashion Marketing Strategy and Plan. \nClick here for Product
URL:https://belmontbec.com/event/webinar-marketing-small-fashion-business/
CATEGORIES:Webinar
ATTACH;FMTTYPE=image/jpeg:https://belmontbec.com/wp-content/uploads/2015/12/bbeclogo50.jpg
END:VEVENT
BEGIN:VEVENT
DTSTART;TZID=UTC:20160804T100000
DTEND;TZID=UTC:20160804T233000
DTSTAMP:20260423T182325
CREATED:20160717T221738Z
LAST-MODIFIED:20160718T235402Z
UID:4889-1470304800-1470353400@belmontbec.com
SUMMARY:Opportunities in Asia
DESCRIPTION:FREE Business Seminar: Opportunities in Asia \nCloverdale\, Thursday\, 4th August\, 10am – 11:30am\nwww.tcfwa.com/events  \nSustainable Sourcing and Selling  \n& the latest Fashion Event in Asia  \n\n  \nTCF WA\, Belmont BEC in conjunction with the Hong Kong Trade Development Council\, Sydney Office invites you to join this networking seminar ‘Opportunities in Asia –Sourcing and Selling in Hong Kong\, How to Reduce your Risk when Doing Business in Asia\, and How to Source Sustainable.  You’ll also learn about the latest initiative from the Chinese Mainland – the One Belt One Road (OBOR) initiative\, and what it means for Australia. \nHong Kong is the fashion hub of Asia\, and on the door-step of Mainland China’s with the world’s largest manufacturing facilities.  It is the ideal market to test your brand on an international stage\, or locate suppliers and manufacturers for your collection. \nThis informative event will cover: \n\nMarket insights\nThe advantages of using Hong Kong to access China and Asian region\nReducing your risks and practical business tips for doing business in the market\nOn-line Sourcing and selling\, incuding: how to source in small quantities and sustainable sourcing\nOne Belt One Road (OBOR) and what it means\n\n*Attendees can register to attend TCF Buying Mission to Centrestage\, Hong Kong\, 7-10 September to receive 3 night’s accommodation sponsorship and.or a travel reimbursement.  \nPresentations by: Toni Wade Hong Kong Trade Development Council\, Sydney Office\, and supported by TCF WA\, Belmont BEC and Hong Kong Australia Business Association WA Chapter. \nThis event provides opportunities to learn about Hong Kong\, the hub of Asia\, online sourcing and selling\, and how to reduce your risks when doing business in Asia. \n\nEvent Details\nCost: Complimentary (includes Morning Tea)\nDate: Thursday 4th August\nTime: 10am – 11:30am\nVenue: Function Room\, The Belmont\, 174 Wright St\, Cloverdale\, WA 6105 (Free Parking)\nRSVP: Bookings Essential
URL:https://belmontbec.com/event/4889/
END:VEVENT
BEGIN:VEVENT
DTSTART;TZID=UTC:20160804T093000
DTEND;TZID=UTC:20160804T103000
DTSTAMP:20260423T182325
CREATED:20160626T212449Z
LAST-MODIFIED:20160626T212449Z
UID:4693-1470303000-1470306600@belmontbec.com
SUMMARY:Webinar - Starting a Fashion Label
DESCRIPTION:Starting your label\, sourcing\, costing\, marketing and fashion cycles. \nClick here for product
URL:https://belmontbec.com/event/webinar-starting-a-fashion-label-2/
CATEGORIES:Webinar
ATTACH;FMTTYPE=image/jpeg:https://belmontbec.com/wp-content/uploads/2015/12/bbeclogo50.jpg
END:VEVENT
BEGIN:VEVENT
DTSTART;TZID=UTC:20160802T110000
DTEND;TZID=UTC:20160802T120000
DTSTAMP:20260423T182325
CREATED:20160626T191339Z
LAST-MODIFIED:20160626T191339Z
UID:4636-1470135600-1470139200@belmontbec.com
SUMMARY:Webinar - Writing Your Business Plan
DESCRIPTION:Write your Business Plan or review and update your existing plan.\nClick here for product
URL:https://belmontbec.com/event/webinar-writing-your-business-plan-2/
CATEGORIES:Webinar
ATTACH;FMTTYPE=image/jpeg:https://belmontbec.com/wp-content/uploads/2015/12/bbeclogo50.jpg
END:VEVENT
BEGIN:VEVENT
DTSTART;TZID=UTC:20160802T093000
DTEND;TZID=UTC:20160802T103000
DTSTAMP:20260423T182325
CREATED:20160626T185423Z
LAST-MODIFIED:20160626T190423Z
UID:4630-1470130200-1470133800@belmontbec.com
SUMMARY:Webinar - Starting Your New Business
DESCRIPTION:Checklist and research required to start a new business.\nClick here for product
URL:https://belmontbec.com/event/webinar-starting-your-new-business/
CATEGORIES:Webinar
ATTACH;FMTTYPE=image/jpeg:https://belmontbec.com/wp-content/uploads/2015/12/bbeclogo50.jpg
END:VEVENT
BEGIN:VEVENT
DTSTART;TZID=UTC:20160728T143000
DTEND;TZID=UTC:20160728T153000
DTSTAMP:20260423T182325
CREATED:20160626T221240Z
LAST-MODIFIED:20160626T221240Z
UID:4725-1469716200-1469719800@belmontbec.com
SUMMARY:Webinar - Specification Sheets For Apparel Manufacture
DESCRIPTION:Prepare your spec sheets for better production\, labeling\, sizing. \nClick here for Product
URL:https://belmontbec.com/event/webinar-specification-sheets-apparel-manufacture/
CATEGORIES:Webinar
ATTACH;FMTTYPE=image/jpeg:https://belmontbec.com/wp-content/uploads/2015/12/bbeclogo50.jpg
END:VEVENT
BEGIN:VEVENT
DTSTART;TZID=UTC:20160728T130000
DTEND;TZID=UTC:20160728T140000
DTSTAMP:20260423T182325
CREATED:20160626T221153Z
LAST-MODIFIED:20160626T221153Z
UID:4723-1469710800-1469714400@belmontbec.com
SUMMARY:Webinar - What Buyers Are Really Looking For
DESCRIPTION:Understand their needs to reach them. \nClick here for product
URL:https://belmontbec.com/event/webinar-buyers-really-looking/
CATEGORIES:Webinar
ATTACH;FMTTYPE=image/jpeg:https://belmontbec.com/wp-content/uploads/2015/12/bbeclogo50.jpg
END:VEVENT
BEGIN:VEVENT
DTSTART;TZID=UTC:20160728T110000
DTEND;TZID=UTC:20160728T120000
DTSTAMP:20260423T182325
CREATED:20160626T220658Z
LAST-MODIFIED:20160626T220658Z
UID:4721-1469703600-1469707200@belmontbec.com
SUMMARY:Webinar - Italian Fashion Media - How to Get Noticed
DESCRIPTION:Tips on how to get noticed by the Italian Fashion Media. \nClick here for product
URL:https://belmontbec.com/event/webinar-italian-fashion-media-how-to-get-noticed/
CATEGORIES:Webinar
ATTACH;FMTTYPE=image/jpeg:https://belmontbec.com/wp-content/uploads/2015/12/bbeclogo50.jpg
END:VEVENT
BEGIN:VEVENT
DTSTART;TZID=UTC:20160728T093000
DTEND;TZID=UTC:20160728T223000
DTSTAMP:20260423T182325
CREATED:20160626T220513Z
LAST-MODIFIED:20160626T220513Z
UID:4719-1469698200-1469745000@belmontbec.com
SUMMARY:Webinar - Avoiding Apparel Manufacturing Pitfalls
DESCRIPTION:Minimise problems before they become a major issue\, be prepared. \nClick here for Product
URL:https://belmontbec.com/event/webinar-avoiding-apparel-manufacturing-pitfalls-2-2/
CATEGORIES:Webinar
ATTACH;FMTTYPE=image/jpeg:https://belmontbec.com/wp-content/uploads/2015/12/bbeclogo50.jpg
END:VEVENT
BEGIN:VEVENT
DTSTART;TZID=UTC:20160727T170000
DTEND;TZID=UTC:20160727T190000
DTSTAMP:20260423T182326
CREATED:20160627T223021Z
LAST-MODIFIED:20170127T004349Z
UID:4781-1469638800-1469646000@belmontbec.com
SUMMARY:Belmont Business 'Ask An Expert' Sundowner
DESCRIPTION:Guest Speakers include: \nMatthew McKenzie (Business News) will outline the opportunities for small businesses as media increasingly goes digital\, and what business stories attract media attention. \nPeter Lindsay-Macfadyen (Express Link) will provide tips on getting the best pricing and services on domestic freight costs within Australia. \nMombi Sakala (Telstra Business Centre Belmont) updating on the latest NBN communication services to improve your business. \nIrving Lane (TCFWA) will outline upcoming Opportunities in Asia re Hong Kong & China \nRob Frances (Belmont BEC) will provide tips on preparing your submission for the 23rd Belmont & Western Australian Small Business Awards – 23 categories available to enter – collect your Entry Form\, register for an Award Mentor \n \n23rd Belmont Western Australian Small Business Awards 2016 – collect your Entry Form\, register for an Award Mentor \nDoor Prizes:  Mobile Phone Power Bank Charger sponsored by Telstra Business Centre Belmont; Friends of Belmont BEC Membership valued at $99. \nBuild your Business Networks! \nAll businesses attending will be invited to personally introduce themselves and their business \nJoin Friends of Belmont BEC www.belmontbec.com/membership \nFree Entry\, Nibbles sponsored by The Belmont\, Drinks at Bar Prices\, Door Prizes.
URL:https://belmontbec.com/event/belmont-business-ask-an-expert-sundowner-5/
CATEGORIES:Event List
ATTACH;FMTTYPE=image/jpeg:https://belmontbec.com/wp-content/uploads/2016/02/BBS-draft-banner-no1-2-1-scaled.jpg
END:VEVENT
BEGIN:VEVENT
DTSTART;TZID=UTC:20160726T160000
DTEND;TZID=UTC:20160726T170000
DTSTAMP:20260423T182326
CREATED:20160626T205746Z
LAST-MODIFIED:20160626T205746Z
UID:4673-1469548800-1469552400@belmontbec.com
SUMMARY:Webinar - Understanding the Australian Privacy Changes
DESCRIPTION:Introduction to Privacy Amendments Act. \nClick here for Product
URL:https://belmontbec.com/event/webinar-understanding-the-australian-privacy-changes-2/
CATEGORIES:Webinar
ATTACH;FMTTYPE=image/jpeg:https://belmontbec.com/wp-content/uploads/2015/12/bbeclogo50.jpg
END:VEVENT
BEGIN:VEVENT
DTSTART;TZID=UTC:20160726T143000
DTEND;TZID=UTC:20160726T153000
DTSTAMP:20260423T182326
CREATED:20160626T204548Z
LAST-MODIFIED:20160626T204548Z
UID:4671-1469543400-1469547000@belmontbec.com
SUMMARY:Webinar - Importing and Exporting
DESCRIPTION:Lower the risk of failure when you import or export. \nClick here for product
URL:https://belmontbec.com/event/webinar-importing-and-exporting-2/
CATEGORIES:Webinar
ATTACH;FMTTYPE=image/jpeg:https://belmontbec.com/wp-content/uploads/2015/12/bbeclogo50.jpg
END:VEVENT
BEGIN:VEVENT
DTSTART;TZID=UTC:20160726T130000
DTEND;TZID=UTC:20160726T140000
DTSTAMP:20260423T182326
CREATED:20160626T203800Z
LAST-MODIFIED:20160626T204058Z
UID:4665-1469538000-1469541600@belmontbec.com
SUMMARY:Webinar - Global Platform for Action on Sourcing From Women Vendors
DESCRIPTION:Linking women owned businesses around the globe – buying & selling. \n click here for product
URL:https://belmontbec.com/event/webinar-global-platform-for-action-on-sourcing-from-women-vendors-2/
CATEGORIES:Webinar
ATTACH;FMTTYPE=image/jpeg:https://belmontbec.com/wp-content/uploads/2015/12/bbeclogo50.jpg
END:VEVENT
BEGIN:VEVENT
DTSTART;TZID=UTC:20160726T110000
DTEND;TZID=UTC:20160726T120000
DTSTAMP:20260423T182326
CREATED:20160626T203235Z
LAST-MODIFIED:20160626T203235Z
UID:4663-1469530800-1469534400@belmontbec.com
SUMMARY:Webinar - Credit Management And Debt Collection
DESCRIPTION:Manage your business cash flow & debt collection. \nClick here for product
URL:https://belmontbec.com/event/webinar-credit-management-debt-collection-2/
CATEGORIES:Webinar
ATTACH;FMTTYPE=image/jpeg:https://belmontbec.com/wp-content/uploads/2015/12/bbeclogo50.jpg
END:VEVENT
BEGIN:VEVENT
DTSTART;TZID=UTC:20160726T093000
DTEND;TZID=UTC:20160726T103000
DTSTAMP:20260423T182326
CREATED:20160626T202804Z
LAST-MODIFIED:20160626T202804Z
UID:4660-1469525400-1469529000@belmontbec.com
SUMMARY:Webinar - UN Global Compact - Women's Empowerment Principles
DESCRIPTION:United Nations Global Compact Women’s Empowerment Principles. \nClick here for Product
URL:https://belmontbec.com/event/webinar-un-global-compact-womens-empowerment-principles-2/
CATEGORIES:Webinar
ATTACH;FMTTYPE=image/jpeg:https://belmontbec.com/wp-content/uploads/2015/12/bbeclogo50.jpg
END:VEVENT
END:VCALENDAR