BEGIN:VCALENDAR
VERSION:2.0
PRODID:-//Belmont BEC - ECPv6.15.20//NONSGML v1.0//EN
CALSCALE:GREGORIAN
METHOD:PUBLISH
X-WR-CALNAME:Belmont BEC
X-ORIGINAL-URL:https://belmontbec.com
X-WR-CALDESC:Events for Belmont BEC
REFRESH-INTERVAL;VALUE=DURATION:PT1H
X-Robots-Tag:noindex
X-PUBLISHED-TTL:PT1H
BEGIN:VTIMEZONE
TZID:UTC
BEGIN:STANDARD
TZOFFSETFROM:+0000
TZOFFSETTO:+0000
TZNAME:UTC
DTSTART:20150101T000000
END:STANDARD
END:VTIMEZONE
BEGIN:VEVENT
DTSTART;TZID=UTC:20160726T093000
DTEND;TZID=UTC:20160726T103000
DTSTAMP:20260423T210744
CREATED:20160626T202804Z
LAST-MODIFIED:20160626T202804Z
UID:4660-1469525400-1469529000@belmontbec.com
SUMMARY:Webinar - UN Global Compact - Women's Empowerment Principles
DESCRIPTION:United Nations Global Compact Women’s Empowerment Principles. \nClick here for Product
URL:https://belmontbec.com/event/webinar-un-global-compact-womens-empowerment-principles-2/
CATEGORIES:Webinar
ATTACH;FMTTYPE=image/jpeg:https://belmontbec.com/wp-content/uploads/2015/12/bbeclogo50.jpg
END:VEVENT
BEGIN:VEVENT
DTSTART;TZID=UTC:20160721T110000
DTEND;TZID=UTC:20160721T120000
DTSTAMP:20260423T210744
CREATED:20160626T220203Z
LAST-MODIFIED:20160626T220203Z
UID:4717-1469098800-1469102400@belmontbec.com
SUMMARY:Webinar - Strategies for Offshore Sourcing
DESCRIPTION:Tips on offshore sourcing and risk management. \n Click here for product
URL:https://belmontbec.com/event/webinar-strategies-for-offshore-sourcing-2-2/
CATEGORIES:Webinar
ATTACH;FMTTYPE=image/jpeg:https://belmontbec.com/wp-content/uploads/2015/12/bbeclogo50.jpg
END:VEVENT
BEGIN:VEVENT
DTSTART;TZID=UTC:20160721T093000
DTEND;TZID=UTC:20160721T113000
DTSTAMP:20260423T210744
CREATED:20160630T184526Z
LAST-MODIFIED:20160717T175958Z
UID:4784-1469093400-1469100600@belmontbec.com
SUMMARY:Workshop - Improve Your Profit Margins with Lean Business Systems
DESCRIPTION:What is stopping your organisation from banking its full potential? \n•         Scrapped materials and reworked jobs;\n•         Machinery breakdowns;\n•         Task changeover times;\n•         Lack of communications;\n•         Supply chain management;\n•         New starter competence and confidence levels; or\n•         General lack of organisation or desired culture? \nThis session will give you a broad understanding of the following: \n\n Lean & Six Sigma business improvement methodologies\, and DMAIC improvement cycle;\nCommon tools used in practical problem solving and project snapshots of how those tools have saved $1\,000\,000 ’s;\nThe associated funding support available for you¬ to implement your business improvement program.\n\nAttendees are offered a free problem solving DMAIC template plus an hour of complimentary coaching to get your project underway. \n\n\nAbout the Presenter \nDamian Grow is an accredited Lean Six Sigma Black Belt\, who has a wide range of career experiences\, including Defence\, Construction\, Mining\, Learning & Development\, Manufacturing\, Engineering and Logistical organisations.  He has facilitated over 250 process improvement initiatives; reducing waste\, improving quality\, increasing productivity and profitability.
URL:https://belmontbec.com/event/improve-your-profit-margins-with-lean-business-systems/
ATTACH;FMTTYPE=image/jpeg:https://belmontbec.com/wp-content/uploads/2016/04/word-image-36.jpg
END:VEVENT
BEGIN:VEVENT
DTSTART;TZID=UTC:20160721T093000
DTEND;TZID=UTC:20160721T103000
DTSTAMP:20260423T210744
CREATED:20160626T215907Z
LAST-MODIFIED:20160626T215907Z
UID:4716-1469093400-1469097000@belmontbec.com
SUMMARY:Webinar - Sustainable Sourcing
DESCRIPTION:Sustainable Sourcing via Hong Kong Trade Development Council. \nClick here for Product
URL:https://belmontbec.com/event/4716/
CATEGORIES:Webinar
ATTACH;FMTTYPE=image/jpeg:https://belmontbec.com/wp-content/uploads/2015/12/bbeclogo50.jpg
END:VEVENT
BEGIN:VEVENT
DTSTART;TZID=UTC:20160720T130000
DTEND;TZID=UTC:20160720T130000
DTSTAMP:20260423T210744
CREATED:20160626T211142Z
LAST-MODIFIED:20160626T211142Z
UID:4684-1469019600-1469019600@belmontbec.com
SUMMARY:Webinar - Tips on Using Social Media in Your Business
DESCRIPTION:Effectively promote your business and what needs to be done. \nClick here for Product
URL:https://belmontbec.com/event/webinar-tips-on-using-social-media-in-your-business-2/
CATEGORIES:Webinar
ATTACH;FMTTYPE=image/jpeg:https://belmontbec.com/wp-content/uploads/2015/12/bbeclogo50.jpg
END:VEVENT
BEGIN:VEVENT
DTSTART;TZID=UTC:20160719T160000
DTEND;TZID=UTC:20160719T170000
DTSTAMP:20260423T210744
CREATED:20160626T201546Z
LAST-MODIFIED:20160626T201546Z
UID:4658-1468944000-1468947600@belmontbec.com
SUMMARY:Webinar - Prepare a Business for Sale
DESCRIPTION:Look at the sale of your business through the eyes of the buyer. \n Click here for Product
URL:https://belmontbec.com/event/webinar-prepare-business-sale/
CATEGORIES:Webinar
ATTACH;FMTTYPE=image/jpeg:https://belmontbec.com/wp-content/uploads/2015/12/bbeclogo50.jpg
END:VEVENT
BEGIN:VEVENT
DTSTART;TZID=UTC:20160719T143000
DTEND;TZID=UTC:20160719T153000
DTSTAMP:20260423T210744
CREATED:20160626T200914Z
LAST-MODIFIED:20160626T200914Z
UID:4656-1468938600-1468942200@belmontbec.com
SUMMARY:Webinar - Preparing for a Fashion Trade Event
DESCRIPTION:Steps to prepare before\, during and after a Trade Exhibition. \nClick here for product
URL:https://belmontbec.com/event/webinar-preparing-for-a-fashion-trade-event-2/
CATEGORIES:Webinar
ATTACH;FMTTYPE=image/jpeg:https://belmontbec.com/wp-content/uploads/2015/12/bbeclogo50.jpg
END:VEVENT
BEGIN:VEVENT
DTSTART;TZID=UTC:20160719T130000
DTEND;TZID=UTC:20160719T140000
DTSTAMP:20260423T210744
CREATED:20160626T195511Z
LAST-MODIFIED:20160626T195511Z
UID:4651-1468933200-1468936800@belmontbec.com
SUMMARY:Webinar - Marketing on a Budget
DESCRIPTION:How to make the most of your marketing dollars. \nClick here for product
URL:https://belmontbec.com/event/webinar-marketing-on-a-budget-3/
CATEGORIES:Webinar
ATTACH;FMTTYPE=image/jpeg:https://belmontbec.com/wp-content/uploads/2015/12/bbeclogo50.jpg
END:VEVENT
BEGIN:VEVENT
DTSTART;TZID=UTC:20160719T093000
DTEND;TZID=UTC:20160719T103000
DTSTAMP:20260423T210744
CREATED:20160626T200703Z
LAST-MODIFIED:20160626T200703Z
UID:4654-1468920600-1468924200@belmontbec.com
SUMMARY:Webinar - How to Write a Tender or Grant Submission
DESCRIPTION:Develop your expertise at writing\, submitting tenders & submissions. \nClick here for product
URL:https://belmontbec.com/event/webinar-how-to-write-a-tender-or-grant-submission-2/
CATEGORIES:Webinar
ATTACH;FMTTYPE=image/jpeg:https://belmontbec.com/wp-content/uploads/2015/12/bbeclogo50.jpg
END:VEVENT
BEGIN:VEVENT
DTSTART;TZID=UTC:20160714T093000
DTEND;TZID=UTC:20160714T103000
DTSTAMP:20260423T210744
CREATED:20160626T204931Z
LAST-MODIFIED:20160626T204931Z
UID:4669-1468488600-1468492200@belmontbec.com
SUMMARY:Webinar - Understanding Freight Logistics of Importing/Exporting
DESCRIPTION:Tips on freight options\, air freight\, shipping terms\, express couriers. \nClick here for product
URL:https://belmontbec.com/event/webinar-understanding-freight-logistics-of-importingexporting/
CATEGORIES:Webinar
ATTACH;FMTTYPE=image/jpeg:https://belmontbec.com/wp-content/uploads/2015/12/bbeclogo50.jpg
END:VEVENT
BEGIN:VEVENT
DTSTART;TZID=UTC:20160713T110000
DTEND;TZID=UTC:20160713T120000
DTSTAMP:20260423T210744
CREATED:20160626T210804Z
LAST-MODIFIED:20160626T210850Z
UID:4678-1468407600-1468411200@belmontbec.com
SUMMARY:Webinar - How To Brief Your Website Developer
DESCRIPTION:How to brief your website developer to your maximum advantage. \nClick here for product
URL:https://belmontbec.com/event/webinar-brief-website-developer/
CATEGORIES:Webinar
ATTACH;FMTTYPE=image/jpeg:https://belmontbec.com/wp-content/uploads/2015/12/bbeclogo50.jpg
END:VEVENT
BEGIN:VEVENT
DTSTART;TZID=UTC:20160712T160000
DTEND;TZID=UTC:20160712T170000
DTSTAMP:20260423T210744
CREATED:20160626T195852Z
LAST-MODIFIED:20160626T195852Z
UID:4650-1468339200-1468342800@belmontbec.com
SUMMARY:Webinar - 7 Essentials to Creating Massive Success
DESCRIPTION:Keep these seven tips with you and see a massive improvement and more success in your work. \nClick here for product
URL:https://belmontbec.com/event/webinar-7-essentials-to-creating-massive-success-2/
CATEGORIES:Webinar
ATTACH;FMTTYPE=image/jpeg:https://belmontbec.com/wp-content/uploads/2015/12/bbeclogo50.jpg
END:VEVENT
BEGIN:VEVENT
DTSTART;TZID=UTC:20160712T143000
DTEND;TZID=UTC:20160712T153000
DTSTAMP:20260423T210744
CREATED:20160626T194759Z
LAST-MODIFIED:20160626T194759Z
UID:4647-1468333800-1468337400@belmontbec.com
SUMMARY:Webinar – Pricing\, Costing & Cashflow
DESCRIPTION:Understand your pricing\, profit margins and your cash flow projections. \nClick here for product
URL:https://belmontbec.com/event/webinar-pricing-costing-cashflow-2-2/
CATEGORIES:Webinar
ATTACH;FMTTYPE=image/jpeg:https://belmontbec.com/wp-content/uploads/2015/12/bbeclogo50.jpg
END:VEVENT
BEGIN:VEVENT
DTSTART;TZID=UTC:20160712T130000
DTEND;TZID=UTC:20160712T140000
DTSTAMP:20260423T210744
CREATED:20160626T193902Z
LAST-MODIFIED:20160626T193902Z
UID:4646-1468328400-1468332000@belmontbec.com
SUMMARY:Webinar - Get Noticed By The Media
DESCRIPTION:Using online tools when planning your media strategy and get noticed. \nClick here for product
URL:https://belmontbec.com/event/webinar-get-noticed-by-the-media-2-2/
CATEGORIES:Webinar
ATTACH;FMTTYPE=image/jpeg:https://belmontbec.com/wp-content/uploads/2015/12/bbeclogo50.jpg
END:VEVENT
BEGIN:VEVENT
DTSTART;TZID=UTC:20160712T110000
DTEND;TZID=UTC:20160712T120000
DTSTAMP:20260423T210744
CREATED:20160626T192855Z
LAST-MODIFIED:20160626T192855Z
UID:4640-1468321200-1468324800@belmontbec.com
SUMMARY:Webinar - Customer Service is your Competitive Edge
DESCRIPTION:How to keep customers coming back and boost your business. \nClick here for product
URL:https://belmontbec.com/event/webinar-customer-service-is-your-competitive-edge-2/
CATEGORIES:Webinar
ATTACH;FMTTYPE=image/jpeg:https://belmontbec.com/wp-content/uploads/2015/12/bbeclogo50.jpg
END:VEVENT
BEGIN:VEVENT
DTSTART;TZID=UTC:20160712T093000
DTEND;TZID=UTC:20160712T103000
DTSTAMP:20260423T210744
CREATED:20160626T193731Z
LAST-MODIFIED:20160626T193731Z
UID:4645-1468315800-1468319400@belmontbec.com
SUMMARY:Webinar - How To Grow Your Business
DESCRIPTION:Click here for product
URL:https://belmontbec.com/event/webinar-grow-business-2/
CATEGORIES:Webinar
ATTACH;FMTTYPE=image/jpeg:https://belmontbec.com/wp-content/uploads/2015/12/bbeclogo50.jpg
END:VEVENT
BEGIN:VEVENT
DTSTART;TZID=UTC:20160707T143000
DTEND;TZID=UTC:20160707T153000
DTSTAMP:20260423T210744
CREATED:20160626T213802Z
LAST-MODIFIED:20160626T213802Z
UID:4699-1467901800-1467905400@belmontbec.com
SUMMARY:Webinar - TCF Global Sourcing Opportunities
DESCRIPTION:Source global fashion trade fairs\, travel sponsorship\, village projects. \nClick here for business
URL:https://belmontbec.com/event/4699/
CATEGORIES:Webinar
ATTACH;FMTTYPE=image/jpeg:https://belmontbec.com/wp-content/uploads/2015/12/bbeclogo50.jpg
END:VEVENT
BEGIN:VEVENT
DTSTART;TZID=UTC:20160707T110000
DTEND;TZID=UTC:20160707T120000
DTSTAMP:20260423T210744
CREATED:20160626T212953Z
LAST-MODIFIED:20160626T212953Z
UID:4704-1467889200-1467892800@belmontbec.com
SUMMARY:Webinar - Marketing for Small Fashion Business
DESCRIPTION:Develop your Fashion Marketing Strategy and Plan. \nClick here for Product
URL:https://belmontbec.com/event/webinar-marketing-for-small-fashion-business-2/
CATEGORIES:Webinar
ATTACH;FMTTYPE=image/jpeg:https://belmontbec.com/wp-content/uploads/2015/12/bbeclogo50.jpg
END:VEVENT
BEGIN:VEVENT
DTSTART;TZID=UTC:20160707T093000
DTEND;TZID=UTC:20160707T103000
DTSTAMP:20260423T210744
CREATED:20160626T212451Z
LAST-MODIFIED:20160626T212451Z
UID:4691-1467883800-1467887400@belmontbec.com
SUMMARY:Webinar - Starting a Fashion Label
DESCRIPTION:Starting your label\, sourcing\, costing\, marketing and fashion cycles. \nClick here for product
URL:https://belmontbec.com/event/webinar-starting-a-fashion-label-2-2/
CATEGORIES:Webinar
ATTACH;FMTTYPE=image/jpeg:https://belmontbec.com/wp-content/uploads/2015/12/bbeclogo50.jpg
END:VEVENT
BEGIN:VEVENT
DTSTART;TZID=UTC:20160705T110000
DTEND;TZID=UTC:20160705T120000
DTSTAMP:20260423T210744
CREATED:20160626T191402Z
LAST-MODIFIED:20160626T191402Z
UID:4637-1467716400-1467720000@belmontbec.com
SUMMARY:Webinar - Writing Your Business Plan
DESCRIPTION:Write your Business Plan or review and update your existing plan.\nClick here for product
URL:https://belmontbec.com/event/webinar-writing-your-business-plan-2-2/
CATEGORIES:Webinar
ATTACH;FMTTYPE=image/jpeg:https://belmontbec.com/wp-content/uploads/2015/12/bbeclogo50.jpg
END:VEVENT
BEGIN:VEVENT
DTSTART;TZID=UTC:20160705T093000
DTEND;TZID=UTC:20160705T103000
DTSTAMP:20260423T210744
CREATED:20160626T185238Z
LAST-MODIFIED:20160626T190420Z
UID:4625-1467711000-1467714600@belmontbec.com
SUMMARY:Webinar - Starting Your New Business
DESCRIPTION:Checklist and research required to start a new business.\nClick here for product
URL:https://belmontbec.com/event/webinar-starting-new-business-2/
CATEGORIES:Webinar
ATTACH;FMTTYPE=image/jpeg:https://belmontbec.com/wp-content/uploads/2016/04/word-image-15.jpg
END:VEVENT
BEGIN:VEVENT
DTSTART;TZID=UTC:20160629T170000
DTEND;TZID=UTC:20160629T190000
DTSTAMP:20260423T210744
CREATED:20160609T211245Z
LAST-MODIFIED:20160609T211454Z
UID:4476-1467219600-1467226800@belmontbec.com
SUMMARY:Belmont Business 'Ask An Expert' Sundowner
DESCRIPTION:Belmont Business ‘Ask An Expert’ Sundowner\nWednesday\, 29th June – 5pm \nFunction Room\, The Belmont\, 174 Wright St\, Cloverdale www.belmontbec.com/events \nGuest Speakers:\nGuest Speakers include:\nDamian Grow (Vative) outlining steps on improving profitability in your business through the elimination of internal process waste.\n‘Meet the Candidates’ in the upcoming Federal election\, share your small business concerns with WA Senator Sue Lines; Meet candidates for Swan – Labor Candidate Tammy Solonec and Greens Candidate Sarah Nielsen-Harvey.\nCarol Hanlon (Belmont BEC & TCFWA) will provide tips on preparing your submission for the 23rd Belmont & Western Australian Small Business Awards – 23 categories available to enter – collect your Entry Form\, register for an Award Mentor.\nJean-Marc Aliphon (Infinite IT ) will update on ‘Embracing the Age of Mobility & the BYOD Workplace” and learn why safe BYOD begins with a comprehensive moble policy and a cloud-based MDM solution. \n23rd Belmont Western Australian Small Business Awards 2016 – collect your Entry Form\, register for an Award Mentor \nDoor Prizes: Mobile Phone Power Bank Charger sponsored by Telstra Business Centre Belmont; Friends of Belmont BEC Membership valued at $99.\nBuild your Business Networks!\nAll businesses attending will be invited to personally introduce themselves and their business\nJoin Friends of Belmont BEC www.belmontbec.com/membership\nFree Entry\, Nibbles sponsored by The Belmont\, Drinks at Bar Prices\, Door Prizes.
URL:https://belmontbec.com/event/belmont-business-ask-expert-sundowner-2/
LOCATION:Belmont Tavern\, 174 Wright Street\, Cloverdale\, Western Australia\, 6105\, Australia
ATTACH;FMTTYPE=image/jpeg:https://belmontbec.com/wp-content/uploads/2016/02/BBS-draft-banner-no1-2-e1454987676610.jpg
END:VEVENT
BEGIN:VEVENT
DTSTART;TZID=UTC:20160620T130000
DTEND;TZID=UTC:20160620T160000
DTSTAMP:20260423T210744
CREATED:20160224T224037Z
LAST-MODIFIED:20160524T190143Z
UID:3117-1466427600-1466438400@belmontbec.com
SUMMARY:Tax for Small Business Workshop
DESCRIPTION:Tax for small business is a free workshop developed for small businesses.\nIt will provide you with an overview of the taxation and superannuation obligations associated with starting and operating your small business. \nThe workshop will look at subjects like\n·         different business structures\n·         registering your business\n·         goods and services tax\n·         income tax and claiming deductions\n·         record keeping\n·         how to prepare and lodge your activity statements \nThe workshop also covers employer obligations\, such as pay as you go withholding and superannuation\, if you have or are intending to employ people. \nRegister At: events@belmontbec.com
URL:https://belmontbec.com/event/tax-for-small-business-workshop-2/
CATEGORIES:Event List,Events,Workshop
ATTACH;FMTTYPE=image/png:https://belmontbec.com/wp-content/uploads/2016/01/taxforsmallbusiness--e1517984494110.png
END:VEVENT
BEGIN:VEVENT
DTSTART;TZID=UTC:20160531T140000
DTEND;TZID=UTC:20160531T150000
DTSTAMP:20260423T210744
CREATED:20160426T200355Z
LAST-MODIFIED:20160501T193445Z
UID:4134-1464703200-1464706800@belmontbec.com
SUMMARY:Webinar - Ethical Fashion and the Triple Bottom Line
DESCRIPTION:Understand Green Fashion – what it means and the effect on environment\, economy and social sustainability. \nClick here for Product
URL:https://belmontbec.com/event/webinar-ethical-fashion-and-the-triple-bottom-line/
CATEGORIES:Webinar
ATTACH;FMTTYPE=image/jpeg:https://belmontbec.com/wp-content/uploads/2016/04/word-image-36.jpg
END:VEVENT
BEGIN:VEVENT
DTSTART;TZID=UTC:20160531T130000
DTEND;TZID=UTC:20160531T140000
DTSTAMP:20260423T210744
CREATED:20160426T200351Z
LAST-MODIFIED:20160426T230807Z
UID:3734-1464699600-1464703200@belmontbec.com
SUMMARY:Webinar - Global Platform for Action on Sourcing From Women Vendors
DESCRIPTION:Linking women owned businesses around the globe – buying & selling. \n click here for product
URL:https://belmontbec.com/event/webinar-global-platform-for-action-on-sourcing-from-women-vendors/
CATEGORIES:Webinar
ATTACH;FMTTYPE=image/jpeg:https://belmontbec.com/wp-content/uploads/2016/01/BPW-Business-Incubator-medium.jpg
END:VEVENT
BEGIN:VEVENT
DTSTART;TZID=UTC:20160530T130000
DTEND;TZID=UTC:20160530T160000
DTSTAMP:20260423T210744
CREATED:20160224T223326Z
LAST-MODIFIED:20160224T223326Z
UID:3112-1464613200-1464624000@belmontbec.com
SUMMARY:Tax for Small Business Workshop
DESCRIPTION:Tax for small business is a free workshop developed for small businesses.\nIt will provide you with an overview of the taxation and superannuation obligations associated with starting and operating your small business. \nThe workshop will look at subjects like\n·         different business structures\n·         registering your business\n·         goods and services tax\n·         income tax and claiming deductions\n·         record keeping\n·         how to prepare and lodge your activity statements \nThe workshop also covers employer obligations\, such as pay as you go withholding and superannuation\, if you have or are intending to employ people. \nRegister At: events@belmontbec.com
URL:https://belmontbec.com/event/tax-small-business-workshop/
CATEGORIES:Events,Workshop
ATTACH;FMTTYPE=image/png:https://belmontbec.com/wp-content/uploads/2016/01/taxforsmallbusiness-e1454565452975.png
END:VEVENT
BEGIN:VEVENT
DTSTART;TZID=UTC:20160527T140000
DTEND;TZID=UTC:20160527T150000
DTSTAMP:20260423T210744
CREATED:20160426T200349Z
LAST-MODIFIED:20160426T230808Z
UID:3733-1464357600-1464361200@belmontbec.com
SUMMARY:Webinar - Establishing Label in the USA
DESCRIPTION:Establish your apparel business goals in the USA. \n Click here for Product
URL:https://belmontbec.com/event/webinar-establishing-label-usa/
CATEGORIES:Webinar
ATTACH;FMTTYPE=image/jpeg:https://belmontbec.com/wp-content/uploads/2015/12/preview-11455-e1458544939294.jpg
END:VEVENT
BEGIN:VEVENT
DTSTART;TZID=UTC:20160527T130000
DTEND;TZID=UTC:20160527T140000
DTSTAMP:20260423T210744
CREATED:20160426T200344Z
LAST-MODIFIED:20160426T230811Z
UID:3730-1464354000-1464357600@belmontbec.com
SUMMARY:Webinar - Sustainable Sourcing in HK &China
DESCRIPTION:Sustainable Sourcing via Hong Kong Trade Development Council. \nClick here for Product
URL:https://belmontbec.com/event/webinar-sustainable-sourcing-in-hk-china-2/
CATEGORIES:Webinar
ATTACH;FMTTYPE=image/jpeg:https://belmontbec.com/wp-content/uploads/2015/12/preview-11455-e1458544939294.jpg
END:VEVENT
BEGIN:VEVENT
DTSTART;TZID=UTC:20160527T110000
DTEND;TZID=UTC:20160527T120000
DTSTAMP:20260423T210744
CREATED:20160426T200339Z
LAST-MODIFIED:20160426T230514Z
UID:3732-1464346800-1464350400@belmontbec.com
SUMMARY:Webinar - Connect Your Business to the Women's Empowerment Principles
DESCRIPTION:United Nations Global Compact Women’s Empowerment Principles. \nClick here for Product
URL:https://belmontbec.com/event/webinar-connect-your-business-to-the-womens-empowerment-principles/
CATEGORIES:Webinar
ATTACH;FMTTYPE=image/jpeg:https://belmontbec.com/wp-content/uploads/2015/12/preview-11455-e1458544939294.jpg
END:VEVENT
BEGIN:VEVENT
DTSTART;TZID=UTC:20160526T130000
DTEND;TZID=UTC:20160526T140000
DTSTAMP:20260423T210744
CREATED:20160426T200337Z
LAST-MODIFIED:20160426T230813Z
UID:3710-1464267600-1464271200@belmontbec.com
SUMMARY:Webinar - Tips on Using Social Media in Your Business
DESCRIPTION:Effectively promote your business and what needs to be done. \nClick here for Product
URL:https://belmontbec.com/event/webinar-tips-on-using-social-media-in-your-business/
CATEGORIES:Webinar
ATTACH;FMTTYPE=image/jpeg:https://belmontbec.com/wp-content/uploads/2015/12/preview-11455-e1458544939294.jpg
END:VEVENT
END:VCALENDAR