BEGIN:VCALENDAR
VERSION:2.0
PRODID:-//Belmont BEC - ECPv6.15.20//NONSGML v1.0//EN
CALSCALE:GREGORIAN
METHOD:PUBLISH
X-WR-CALNAME:Belmont BEC
X-ORIGINAL-URL:https://belmontbec.com
X-WR-CALDESC:Events for Belmont BEC
REFRESH-INTERVAL;VALUE=DURATION:PT1H
X-Robots-Tag:noindex
X-PUBLISHED-TTL:PT1H
BEGIN:VTIMEZONE
TZID:UTC
BEGIN:STANDARD
TZOFFSETFROM:+0000
TZOFFSETTO:+0000
TZNAME:UTC
DTSTART:20150101T000000
END:STANDARD
END:VTIMEZONE
BEGIN:VEVENT
DTSTART;TZID=UTC:20160526T110000
DTEND;TZID=UTC:20160526T120000
DTSTAMP:20260423T224118
CREATED:20160412T175357Z
LAST-MODIFIED:20160426T230818Z
UID:3729-1464260400-1464264000@belmontbec.com
SUMMARY:Webinar - Strategies for Offshore Sourcing
DESCRIPTION:Tips on offshore sourcing and risk management. \n Click here for product
URL:https://belmontbec.com/event/webinar-strategies-for-offshore-sourcing/
CATEGORIES:Webinar
ATTACH;FMTTYPE=image/jpeg:https://belmontbec.com/wp-content/uploads/2015/12/preview-11455-e1458544939294.jpg
END:VEVENT
BEGIN:VEVENT
DTSTART;TZID=UTC:20160526T100000
DTEND;TZID=UTC:20160526T110000
DTSTAMP:20260423T224118
CREATED:20160426T195624Z
LAST-MODIFIED:20160426T230822Z
UID:3728-1464256800-1464260400@belmontbec.com
SUMMARY:Webinar - Fashioning Sustainability
DESCRIPTION:Designing ‘eco’ collections\, research sustainable green consumers \nClick here for Product
URL:https://belmontbec.com/event/webinar-fashioning-sustainability/
CATEGORIES:Webinar
ATTACH;FMTTYPE=image/jpeg:https://belmontbec.com/wp-content/uploads/2015/12/preview-11455-e1458544939294.jpg
END:VEVENT
BEGIN:VEVENT
DTSTART;TZID=UTC:20160526T093000
DTEND;TZID=UTC:20160526T113000
DTSTAMP:20260423T224118
CREATED:20160428T210607Z
LAST-MODIFIED:20160508T213710Z
UID:4143-1464255000-1464262200@belmontbec.com
SUMMARY:The Four Hidden Costs of Recruiting the Wrong Employee
DESCRIPTION:The Four Hidden Costs of Recruiting the Wrong Employee \n\n\n\n\n\n\n\n\n\n\n\n\n\n\n\n\n\n\n\n\n\n\n\n\nThrough this workshop you will learn: \n1. The devastating impact when the wrong person is hired.\n2. How your business can be taken to another level when the right person is hired\n\n\n\n\n  \n  \n\n\n\n\nAbout the Presenter \n\n\n\n\n\n\n\n\n\n\n\n\n\nDavid Osborne’s passion is employee performance\, selection and ensuring there is a RETURN ON INVESTMENT from every member of staff.  He has been honoured to work with many entrepreneurs and established global businesses to help them select employees who are competent\, culturally suitable and committed to the goals of the organisation.  David has had the previlege to assist companies identify additional value that can be derived from employees and to put processes in place to harness this value. \nDavid’s special passion is for business owners who have an entrepreneurial dream which could easily be sabotaged by a selection mistake. \n\n\n\n\n\n\n\n12th designedge innovation FESTIVAL \nSupported By
URL:https://belmontbec.com/event/the-four-hidden-costs-of-recruiting-the-wrong-employee-2/
CATEGORIES:Event List,Events,Workshop,Workshops List
END:VEVENT
BEGIN:VEVENT
DTSTART;TZID=UTC:20160525T170000
DTEND;TZID=UTC:20160525T190000
DTSTAMP:20260423T224118
CREATED:20160428T214726Z
LAST-MODIFIED:20160503T231108Z
UID:4147-1464195600-1464202800@belmontbec.com
SUMMARY:Belmont Business 'Ask An Expert' Sundowner
DESCRIPTION:Belmont Business ‘Ask An Expert’ Sundowner\nWednesday\, 25th May – 5pm \nVENUE: Function Room\, The Belmont\, 174 Wright St\, Belmontwww.belmontbec.com/events \nGuest Speakers include: \nPresident David Bennett Belmont Rotary; Matthew Jones Country Wide Insurance Brokers; Jean-Marc Aliphon Infinite IT and many more. Door Prizes and many opportunities to promote you and your business \n23rd Belmont Western Australian Small Business Awards 2016 – collect your Entry Form\, register for an Award Mentor \nDoor Prizes and many opportunities to promote you and your business \nAll businesses attending will be invited to personally introduce themselves and their business. \nJoin Friends of Belmont BEC: www.belmontbec.com/membership \nFree Entry\, Nibbles sponsored by The Belmont\, Drinks at Bar Prices\, Door Prizes. \nLocation: Function Room\, The Belmont\, 174 Wright St\, Cloverdale WA 6105.\nBookings Essential: Register online\, email or telephone 9479 3777.
URL:https://belmontbec.com/event/belmont-business-ask-an-expert-sundowner-3/
CATEGORIES:Event List,Events
ATTACH;FMTTYPE=image/jpeg:https://belmontbec.com/wp-content/uploads/2016/02/BBS-draft-banner-no1-2-1-scaled.jpg
END:VEVENT
BEGIN:VEVENT
DTSTART;TZID=UTC:20160525T150000
DTEND;TZID=UTC:20160525T160000
DTSTAMP:20260423T224118
CREATED:20160426T195621Z
LAST-MODIFIED:20160426T230824Z
UID:3727-1464188400-1464192000@belmontbec.com
SUMMARY:Webinar - Quality Control in Apparel Manufacturing
DESCRIPTION:Be better prepared and organised to ensure the best quality controls. \nClick here for product
URL:https://belmontbec.com/event/webinar-4/
CATEGORIES:Webinar
ATTACH;FMTTYPE=image/jpeg:https://belmontbec.com/wp-content/uploads/2015/12/preview-11455-e1458544939294.jpg
END:VEVENT
BEGIN:VEVENT
DTSTART;TZID=UTC:20160525T130000
DTEND;TZID=UTC:20160525T140000
DTSTAMP:20260423T224118
CREATED:20160426T195620Z
LAST-MODIFIED:20160426T230827Z
UID:3726-1464181200-1464184800@belmontbec.com
SUMMARY:Webinar - What Fashion Buyers Are Really Looking For
DESCRIPTION:Understand their needs to reach them. \nClick here for product
URL:https://belmontbec.com/event/webinar-3/
CATEGORIES:Webinar
ATTACH;FMTTYPE=image/jpeg:https://belmontbec.com/wp-content/uploads/2015/12/preview-11455-e1458544939294.jpg
END:VEVENT
BEGIN:VEVENT
DTSTART;TZID=UTC:20160525T110000
DTEND;TZID=UTC:20160525T120000
DTSTAMP:20260423T224118
CREATED:20160426T192703Z
LAST-MODIFIED:20160426T230831Z
UID:3725-1464174000-1464177600@belmontbec.com
SUMMARY:Webinar - Italian Fashion Media - How to Get Noticed
DESCRIPTION:Tips on how to get noticed by the Italian Fashion Media. \nClick here for product
URL:https://belmontbec.com/event/webinar-2/
CATEGORIES:Webinar
ATTACH;FMTTYPE=image/jpeg:https://belmontbec.com/wp-content/uploads/2015/12/preview-11455-e1458544939294.jpg
END:VEVENT
BEGIN:VEVENT
DTSTART;TZID=UTC:20160525T100000
DTEND;TZID=UTC:20160525T110000
DTSTAMP:20260423T224118
CREATED:20160426T192702Z
LAST-MODIFIED:20160426T230837Z
UID:3723-1464170400-1464174000@belmontbec.com
SUMMARY:Webinar - Specification Sheets For Apparel Manufacture
DESCRIPTION:Prepare your spec sheets for better production\, labeling\, sizing. \nClick here for Product
URL:https://belmontbec.com/event/webinar-specification-sheets-for-apparel-manufacture/
CATEGORIES:Webinar
ATTACH;FMTTYPE=image/jpeg:https://belmontbec.com/wp-content/uploads/2015/12/preview-11455-e1458544939294.jpg
END:VEVENT
BEGIN:VEVENT
DTSTART;TZID=UTC:20160525T093000
DTEND;TZID=UTC:20160525T230000
DTSTAMP:20260423T224118
CREATED:20160427T225458Z
LAST-MODIFIED:20160427T225458Z
UID:4135-1464168600-1464217200@belmontbec.com
SUMMARY:The Keys to Getting Free Publicity for Your Business
DESCRIPTION:The Keys to Getting Publicity for Your Business \n\n\n\n\n\n\n\n\n\n\n\n\n\nHow anyone can get free publicity on TV\, radio\, newspapers\, magazines and online and create more sales. \nImagine your business being feature on TV like Today Tonight\, the Today Show\, The Project\, Sunrise\, or Sky Business News; or radio like 6PR\, in magazines like New Idea\, in newspapers like the West Australian\, the Australian or an online news services. \nJoin journalist and publicity expert Sue Papadoulis from Publicity for Profit and she will walk you through the process of getting media exposure for you and your business. \nThrough this workshop you will learn: \n\n1. The fastest and easiest way to get publicity right now.\n2. Why it’s all about your story – not the size of your business.\n3. What you need in a press release\n4. How the media really works\n5. Why you don’t need to hire an expensive public relations firm ever again. \nAbout the Presenter \n\n\n\n\n\n\n\n\n\n\n\n\n\nSue Papadoulis and the Publicity for Profit team have helped thousands of people in Perth and around Australia – who didn’t think there was anything interesting about them and their business – get excellent publicity.\nTheir students have appeared on just about every major TV program including Sunrise\, Today Show\, The Project\, Wake Up\, A Current Affair\, Today Tonight and others – as well as a host of newspapers\, magazines\, radio programs and blogs. \n\n\n\n\n12th designedge innovation FESTIVAL \nSupported By
URL:https://belmontbec.com/event/keys-getting-free-publicity-business/
CATEGORIES:Event List,Events,Workshop
END:VEVENT
BEGIN:VEVENT
DTSTART;TZID=UTC:20160524T100000
DTEND;TZID=UTC:20160524T110000
DTSTAMP:20260423T224118
CREATED:20160426T192659Z
LAST-MODIFIED:20160426T230842Z
UID:3724-1464084000-1464087600@belmontbec.com
SUMMARY:Webinar - Understanding the Australian Privacy Changes
DESCRIPTION:Introduction to Privacy Amendments Act. \nClick here for Product
URL:https://belmontbec.com/event/webinar-understanding-the-australian-privacy-changes/
CATEGORIES:Webinar
ATTACH;FMTTYPE=image/jpeg:https://belmontbec.com/wp-content/uploads/2015/12/preview-11455-e1458544939294.jpg
END:VEVENT
BEGIN:VEVENT
DTSTART;TZID=UTC:20160523T140000
DTEND;TZID=UTC:20160523T150000
DTSTAMP:20260423T224118
CREATED:20160426T192656Z
LAST-MODIFIED:20160426T230846Z
UID:3722-1464012000-1464015600@belmontbec.com
SUMMARY:Webinar - Importing and Exporting - Lower Risks
DESCRIPTION:Lower the risk of failure when you import or export. \nClick here for product
URL:https://belmontbec.com/event/webinar-importing-and-exporting-lower-risks/
CATEGORIES:Webinar
ATTACH;FMTTYPE=image/jpeg:https://belmontbec.com/wp-content/uploads/2015/12/preview-11455-e1458544939294.jpg
END:VEVENT
BEGIN:VEVENT
DTSTART;TZID=UTC:20160523T130000
DTEND;TZID=UTC:20160523T140000
DTSTAMP:20260423T224118
CREATED:20160426T192654Z
LAST-MODIFIED:20160426T230847Z
UID:3721-1464008400-1464012000@belmontbec.com
SUMMARY:Webinar - Credit Management And Debt Collection
DESCRIPTION:Manage your business cash flow & debt collection. \nClick here for product
URL:https://belmontbec.com/event/webinar-credit-management-and-debt-collection/
CATEGORIES:Webinar
ATTACH;FMTTYPE=image/jpeg:https://belmontbec.com/wp-content/uploads/2015/12/preview-11455-e1458544939294.jpg
END:VEVENT
BEGIN:VEVENT
DTSTART;TZID=UTC:20160523T093000
DTEND;TZID=UTC:20160523T120000
DTSTAMP:20260423T224118
CREATED:20160322T190230Z
LAST-MODIFIED:20160414T224335Z
UID:3354-1463995800-1464004800@belmontbec.com
SUMMARY:Financial Literacy for Small Businesses
DESCRIPTION:Can you interpret what your financial reports are telling you about the sustainability of your business?  Do you know that money in the bank account is not the same thing as profit? \n  \nThere will be two sessions to the workshop: \n1. The PROFIT & LOSS STATEMENT \n\nwhat a Profit and Loss Statement is\nexpenses v capital expenditure\nprofit v cash (hint: there is a VERY big difference between the two)\ncash and non-cash items\nconsiderations when reviewing the Profit and Loss Statement\n\n2. The BALANCE SHEET \n\nwhat a Balance Sheet is\ncalculate the net worth of your business\nhow to tell if your business can actually afford its debts\nconsiderations when reviewing the balance sheet.\n\nAttendees will be provided with a checklist of critical questions to ask when reviewing both financial statements. \n\n\n\n  \nAbout the Presenter \n\n  \nGrace Mugabe (CPA) is an experienced management accountant who is passionate about the economic empowerment of women.  Following her recent tenure as a Senior Site Accountant at Rio Tinto\, she developed a boutique consultancy with the aim of providing financial literacy tools.  Her consultancy\, Financially Empowered\, continues to attract government\, private industry and community organisations. \n\n\n  \n12th designedge innovation FESTIVAL\n  Supported By
URL:https://belmontbec.com/event/financial-literacy-for-small-businesses/
CATEGORIES:Events
END:VEVENT
BEGIN:VEVENT
DTSTART;TZID=UTC:20160519T093000
DTEND;TZID=UTC:20160519T120000
DTSTAMP:20260423T224118
CREATED:20160410T225323Z
LAST-MODIFIED:20160413T225939Z
UID:3416-1463650200-1463659200@belmontbec.com
SUMMARY:Making Facebook Pay You
DESCRIPTION:  \nFacebook – Who is it for? What is the Strategy? What is the budget?\n  \nAbout the Presenter \n  \n\n \n\nKim Barret is the founder of Your Social Voice\, an online marketing & lead generation agency serving experts and small business owners.Kim commenced in the field of marketing 10 years ago\, and he focused on growing business’ profitability through better marketing strategies.Using his expertise with Facebook ads and other online lead generation methods\, Kim took his agency from zero to $100\,000 / month in sales in under a year. He is an international bestselling author\, speaker and trainer and taught marketing around the world in 10 countries and 20 different industries.To learn more\, go to  http://www.yoursocialvoice.com.au\n\n  \n\n\n\n\n  \n\n  \n\n\n   \n12th designedge innovation FESTIVAL\n Supported By
URL:https://belmontbec.com/event/making-facebook-pay-you/
CATEGORIES:Events
END:VEVENT
BEGIN:VEVENT
DTSTART;TZID=UTC:20160518T110000
DTEND;TZID=UTC:20160518T120000
DTSTAMP:20260423T224118
CREATED:20160426T190610Z
LAST-MODIFIED:20160426T231021Z
UID:3714-1463569200-1463572800@belmontbec.com
SUMMARY:Webinar - Strategies for Off Shore Outsourcing
DESCRIPTION:Tips on offshore sourcing and risk management. \nClick here for product
URL:https://belmontbec.com/event/3714/
CATEGORIES:Webinar
ATTACH;FMTTYPE=image/jpeg:https://belmontbec.com/wp-content/uploads/2015/12/preview-11455-e1458544939294.jpg
END:VEVENT
BEGIN:VEVENT
DTSTART;TZID=UTC:20160518T100000
DTEND;TZID=UTC:20160518T110000
DTSTAMP:20260423T224118
CREATED:20160426T190609Z
LAST-MODIFIED:20160426T231024Z
UID:3713-1463565600-1463569200@belmontbec.com
SUMMARY:Webinar - Sustainable Sourcing in HK &China
DESCRIPTION:Sustainable Sourcing via Hong Kong Trade Development Council. \nClick here for Product
URL:https://belmontbec.com/event/webinar-sustainable-sourcing-in-hk-china/
CATEGORIES:Webinar
ATTACH;FMTTYPE=image/jpeg:https://belmontbec.com/wp-content/uploads/2015/12/preview-11455-e1458544939294.jpg
END:VEVENT
BEGIN:VEVENT
DTSTART;TZID=UTC:20160517T130000
DTEND;TZID=UTC:20160517T140000
DTSTAMP:20260423T224118
CREATED:20160426T190559Z
LAST-MODIFIED:20160426T231032Z
UID:3711-1463490000-1463493600@belmontbec.com
SUMMARY:Webinar - Tips on Using Social Media in Your Business
DESCRIPTION:Effectively promote your business and what needs to be done. \nClick here for Product
URL:https://belmontbec.com/event/webinar-tips-using-social-media-business/
CATEGORIES:Webinar
ATTACH;FMTTYPE=image/jpeg:https://belmontbec.com/wp-content/uploads/2015/12/preview-11455-e1458544939294.jpg
END:VEVENT
BEGIN:VEVENT
DTSTART;TZID=UTC:20160517T110000
DTEND;TZID=UTC:20160517T120000
DTSTAMP:20260423T224118
CREATED:20160426T190557Z
LAST-MODIFIED:20160426T231035Z
UID:3709-1463482800-1463486400@belmontbec.com
SUMMARY:Webinar - Buying and Selling a Small Business
DESCRIPTION:Checklist on buying and selling a business and what needs to be done. \nClick here for product
URL:https://belmontbec.com/event/3709/
CATEGORIES:Webinar
ATTACH;FMTTYPE=image/jpeg:https://belmontbec.com/wp-content/uploads/2015/12/preview-11455-e1458544939294.jpg
END:VEVENT
BEGIN:VEVENT
DTSTART;TZID=UTC:20160516T160000
DTEND;TZID=UTC:20160516T170000
DTSTAMP:20260423T224118
CREATED:20160426T190133Z
LAST-MODIFIED:20160426T231039Z
UID:3708-1463414400-1463418000@belmontbec.com
SUMMARY:Webinar - Preparing a Business for Sale
DESCRIPTION:Look at the sale of your business through the eyes of the buyer. \n Click here for Product
URL:https://belmontbec.com/event/webinar-preparing-business-sale/
CATEGORIES:Webinar
ATTACH;FMTTYPE=image/jpeg:https://belmontbec.com/wp-content/uploads/2015/12/preview-11455-e1458544939294.jpg
END:VEVENT
BEGIN:VEVENT
DTSTART;TZID=UTC:20160516T140000
DTEND;TZID=UTC:20160516T150000
DTSTAMP:20260423T224118
CREATED:20160426T190131Z
LAST-MODIFIED:20160426T231041Z
UID:3512-1463407200-1463410800@belmontbec.com
SUMMARY:Webinar - Preparing for a Fashion Trade Event
DESCRIPTION:Steps to prepare before\, during and after a Trade Exhibition. \nClick here for product
URL:https://belmontbec.com/event/webinar-preparing-for-a-fashion-trade-event/
CATEGORIES:Webinar
ATTACH;FMTTYPE=image/jpeg:https://belmontbec.com/wp-content/uploads/2015/12/preview-11455-e1458544939294.jpg
END:VEVENT
BEGIN:VEVENT
DTSTART;TZID=UTC:20160516T130000
DTEND;TZID=UTC:20160516T140000
DTSTAMP:20260423T224118
CREATED:20160426T190129Z
LAST-MODIFIED:20160426T231045Z
UID:3533-1463403600-1463407200@belmontbec.com
SUMMARY:Webinar - Marketing on a Budget
DESCRIPTION:How to make the most of your marketing dollars. \nClick here for product
URL:https://belmontbec.com/event/webinar-marketing-on-a-budget-2/
CATEGORIES:Webinar
ATTACH;FMTTYPE=image/jpeg:https://belmontbec.com/wp-content/uploads/2015/12/preview-11455-e1458544939294.jpg
END:VEVENT
BEGIN:VEVENT
DTSTART;TZID=UTC:20160516T110000
DTEND;TZID=UTC:20160516T120000
DTSTAMP:20260423T224118
CREATED:20160405T200749Z
LAST-MODIFIED:20160426T231047Z
UID:3489-1463396400-1463400000@belmontbec.com
SUMMARY:Webinar - Starting Your New Business
DESCRIPTION:Checklist and research required to start a new business.\nClick here for product
URL:https://belmontbec.com/event/webinar-starting-new-business/
CATEGORIES:Webinar
ATTACH;FMTTYPE=image/jpeg:https://belmontbec.com/wp-content/uploads/2015/12/preview-11455-e1458544939294.jpg
END:VEVENT
BEGIN:VEVENT
DTSTART;TZID=UTC:20160516T100000
DTEND;TZID=UTC:20160516T110000
DTSTAMP:20260423T224118
CREATED:20160426T190126Z
LAST-MODIFIED:20160426T231052Z
UID:3543-1463392800-1463396400@belmontbec.com
SUMMARY:Webinar - How to Write a Tender or Grant Submission
DESCRIPTION:Develop your expertise at writing\, submitting tenders & submissions. \nClick here for product
URL:https://belmontbec.com/event/webinar-how-to-write-a-tender-or-grant-submission/
CATEGORIES:Webinar
ATTACH;FMTTYPE=image/jpeg:https://belmontbec.com/wp-content/uploads/2015/12/preview-11455-e1458544939294.jpg
END:VEVENT
BEGIN:VEVENT
DTSTART;TZID=UTC:20160514T190000
DTEND;TZID=UTC:20160514T220000
DTSTAMP:20260423T224118
CREATED:20160321T003752Z
LAST-MODIFIED:20160428T222017Z
UID:3341-1463252400-1463263200@belmontbec.com
SUMMARY:An evening with Moira Kelly…. Cost - $55 (2 course meal\, cash bar)
DESCRIPTION:An evening with Moira Kelly…. \nInternational Humanitarian and Global Peace Maker\nwww.belmontbec.com/events\nSaturday\, May 14th  7pm-10pm \n\n\n\n\n\n\n\n\n\n\nHear Moira speak about her amazing life\, adventures and the many ‘ups and downs’ of her extraordinary calling to help children\, families and communities in need is simply awe inspiring\, mesmerizing and totally unforgettable!. \nYou will  be glued to your seat\, at times in fits of laughter\, other times in tears\, however always inspired by the unbelievable ‘feats’ and ‘miracles’ that can be achieved by the power of a human spirit on fire and the determination of a Mother Lion that refuses to take ‘NO’ for an answer. For some\, just like the many children and families. Moira has helped\, it may even be a life-changing experience!.  \nIn a world crying out for meaning and inspiration\,\nMoira’s raw passion and soul stirring mission is riveting \n\n\nPrice $55  (2 course Meal\, cash bar)\n  \n\n12th designedge innovation FESTIVAL \nSupported By
URL:https://belmontbec.com/event/an-evening-with-moira-kelly/
CATEGORIES:Event List,Events
END:VEVENT
BEGIN:VEVENT
DTSTART;TZID=UTC:20160513T130000
DTEND;TZID=UTC:20160513T140000
DTSTAMP:20260423T224118
CREATED:20160426T185716Z
LAST-MODIFIED:20160426T231105Z
UID:3541-1463144400-1463148000@belmontbec.com
SUMMARY:Webinar - How To Grow Your Fashion Business
DESCRIPTION:Grow and develop your fashion and TCF related business. \nClick here for product
URL:https://belmontbec.com/event/how-to-grow-your-fashion-business/
CATEGORIES:Webinar
ATTACH;FMTTYPE=image/jpeg:https://belmontbec.com/wp-content/uploads/2015/12/preview-11455-e1458544939294.jpg
END:VEVENT
BEGIN:VEVENT
DTSTART;TZID=UTC:20160512T130000
DTEND;TZID=UTC:20160512T140000
DTSTAMP:20260423T224118
CREATED:20160426T185707Z
LAST-MODIFIED:20160426T231118Z
UID:3537-1463058000-1463061600@belmontbec.com
SUMMARY:Webinar - TESTEX - Textiles Accreditation & Labeling
DESCRIPTION:Testing\, auditing and certification system for textiles. \nClick here for Product
URL:https://belmontbec.com/event/webinar-testex-textiles-accreditation-labeling/
CATEGORIES:Webinar
ATTACH;FMTTYPE=image/jpeg:https://belmontbec.com/wp-content/uploads/2015/12/preview-11455-e1458544939294.jpg
END:VEVENT
BEGIN:VEVENT
DTSTART;TZID=UTC:20160511T130000
DTEND;TZID=UTC:20160511T140000
DTSTAMP:20260423T224118
CREATED:20160426T185027Z
LAST-MODIFIED:20160426T231121Z
UID:3536-1462971600-1462975200@belmontbec.com
SUMMARY:Webinar - Marketing for Small Fashion Business
DESCRIPTION:Develop your Fashion Marketing Strategy and Plan. \nClick here for Product
URL:https://belmontbec.com/event/webinar-marketing-for-small-fashion-business/
CATEGORIES:Webinar
ATTACH;FMTTYPE=image/jpeg:https://belmontbec.com/wp-content/uploads/2015/12/preview-11455-e1458544939294.jpg
END:VEVENT
BEGIN:VEVENT
DTSTART;TZID=UTC:20160511T110000
DTEND;TZID=UTC:20160511T120000
DTSTAMP:20260423T224118
CREATED:20160426T185026Z
LAST-MODIFIED:20160426T231128Z
UID:3535-1462964400-1462968000@belmontbec.com
SUMMARY:Webinar - How To Brief Your Website Developer
DESCRIPTION:How to brief your website developer to your maximum advantage. \nClick here for product
URL:https://belmontbec.com/event/webinar-how-to-brief-your-website-developer/
CATEGORIES:Webinar
ATTACH;FMTTYPE=image/jpeg:https://belmontbec.com/wp-content/uploads/2015/12/preview-11455-e1458544939294.jpg
END:VEVENT
BEGIN:VEVENT
DTSTART;TZID=UTC:20160511T100000
DTEND;TZID=UTC:20160511T110000
DTSTAMP:20260423T224118
CREATED:20160426T185023Z
LAST-MODIFIED:20160426T231136Z
UID:3532-1462960800-1462964400@belmontbec.com
SUMMARY:Webinar - How To Grow Your Business
DESCRIPTION:Focus on what is required to grow your business. \nClick here for product
URL:https://belmontbec.com/event/webinar-grow-business/
CATEGORIES:Webinar
ATTACH;FMTTYPE=image/jpeg:https://belmontbec.com/wp-content/uploads/2015/12/preview-11455-e1458544939294.jpg
END:VEVENT
BEGIN:VEVENT
DTSTART;TZID=UTC:20160510T140000
DTEND;TZID=UTC:20160510T150000
DTSTAMP:20260423T224118
CREATED:20160426T185022Z
LAST-MODIFIED:20160426T231333Z
UID:3531-1462888800-1462892400@belmontbec.com
SUMMARY:Webinar - Pricing\, Costing & Cashflow
DESCRIPTION:Understand your pricing\, profit margins and your cash flow projections. \nClick here for product
URL:https://belmontbec.com/event/webinar-pricing-costing-cashflow/
CATEGORIES:Webinar
ATTACH;FMTTYPE=image/jpeg:https://belmontbec.com/wp-content/uploads/2015/12/preview-11455-e1458544939294.jpg
END:VEVENT
END:VCALENDAR