BEGIN:VCALENDAR
VERSION:2.0
PRODID:-//Belmont BEC - ECPv6.15.20//NONSGML v1.0//EN
CALSCALE:GREGORIAN
METHOD:PUBLISH
X-WR-CALNAME:Belmont BEC
X-ORIGINAL-URL:https://belmontbec.com
X-WR-CALDESC:Events for Belmont BEC
REFRESH-INTERVAL;VALUE=DURATION:PT1H
X-Robots-Tag:noindex
X-PUBLISHED-TTL:PT1H
BEGIN:VTIMEZONE
TZID:UTC
BEGIN:STANDARD
TZOFFSETFROM:+0000
TZOFFSETTO:+0000
TZNAME:UTC
DTSTART:20150101T000000
END:STANDARD
END:VTIMEZONE
BEGIN:VTIMEZONE
TZID:Australia/Perth
BEGIN:STANDARD
TZOFFSETFROM:+0800
TZOFFSETTO:+0800
TZNAME:AWST
DTSTART:20150101T000000
END:STANDARD
END:VTIMEZONE
BEGIN:VEVENT
DTSTART;TZID=UTC:20160510T130000
DTEND;TZID=UTC:20160510T140000
DTSTAMP:20260424T001324
CREATED:20160426T185019Z
LAST-MODIFIED:20160426T231337Z
UID:3530-1462885200-1462888800@belmontbec.com
SUMMARY:Webinar - Get Noticed By The Media
DESCRIPTION:Using online tools when planning your media strategy and get noticed. \nClick here for product
URL:https://belmontbec.com/event/webinar-get-noticed-by-the-media/
CATEGORIES:Webinar
ATTACH;FMTTYPE=image/jpeg:https://belmontbec.com/wp-content/uploads/2015/12/preview-11455-e1458544939294.jpg
END:VEVENT
BEGIN:VEVENT
DTSTART;TZID=UTC:20160510T110000
DTEND;TZID=UTC:20160510T120000
DTSTAMP:20260424T001324
CREATED:20160426T185013Z
LAST-MODIFIED:20160426T231339Z
UID:3529-1462878000-1462881600@belmontbec.com
SUMMARY:Webinar - Customer Service is your Competitive Edge
DESCRIPTION:How to keep customers coming back and boost your business. \nClick here for product
URL:https://belmontbec.com/event/webinar-customer-service-is-your-competitive-edge/
CATEGORIES:Webinar
ATTACH;FMTTYPE=image/jpeg:https://belmontbec.com/wp-content/uploads/2015/12/preview-11455-e1458544939294.jpg
END:VEVENT
BEGIN:VEVENT
DTSTART;TZID=UTC:20160510T100000
DTEND;TZID=UTC:20160510T110000
DTSTAMP:20260424T001324
CREATED:20160426T184343Z
LAST-MODIFIED:20160426T231341Z
UID:3528-1462874400-1462878000@belmontbec.com
SUMMARY:Webinar - Understanding Freight Logistics of Importing/Exporting
DESCRIPTION:Tips on freight options\, air freight\, shipping terms\, express couriers. \nClick here for product
URL:https://belmontbec.com/event/webinar-understanding-freight-logistics-of-importing-and-exporting/
CATEGORIES:Webinar
ATTACH;FMTTYPE=image/jpeg:https://belmontbec.com/wp-content/uploads/2015/12/preview-11455-e1458544939294.jpg
END:VEVENT
BEGIN:VEVENT
DTSTART;TZID=UTC:20160505T140000
DTEND;TZID=UTC:20160505T150000
DTSTAMP:20260424T001324
CREATED:20160426T184309Z
LAST-MODIFIED:20160426T231349Z
UID:3525-1462456800-1462460400@belmontbec.com
SUMMARY:Webinar - TCF Global Fashion Sourcing Opportunities for Retailers & Designers
DESCRIPTION:Source global fashion trade fairs\, travel sponsorships\, village projects. \nClick here for business
URL:https://belmontbec.com/event/webinar-tcf-global-fashion-sourcing-opportunities-for-retailers-designers/
CATEGORIES:Webinar
ATTACH;FMTTYPE=image/jpeg:https://belmontbec.com/wp-content/uploads/2015/12/preview-11455-e1458544939294.jpg
END:VEVENT
BEGIN:VEVENT
DTSTART;TZID=UTC:20160505T120000
DTEND;TZID=UTC:20160505T130000
DTSTAMP:20260424T001324
CREATED:20160426T184305Z
LAST-MODIFIED:20160426T231356Z
UID:3522-1462449600-1462453200@belmontbec.com
SUMMARY:Webinar - Starting a Fashion Label
DESCRIPTION:Starting your label\, sourcing\, costing\, marketing and fashion cycles. \nClick here for product
URL:https://belmontbec.com/event/webinar-starting-a-fashion-label/
CATEGORIES:Webinar
ATTACH;FMTTYPE=image/jpeg:https://belmontbec.com/wp-content/uploads/2015/12/preview-11455-e1458544939294.jpg
END:VEVENT
BEGIN:VEVENT
DTSTART;TZID=UTC:20160505T093000
DTEND;TZID=UTC:20160505T103000
DTSTAMP:20260424T001324
CREATED:20160229T215530Z
LAST-MODIFIED:20160413T230805Z
UID:3187-1462440600-1462444200@belmontbec.com
SUMMARY:Prepare\, Present\, Make Money
DESCRIPTION:  \n\n\n\n\n\n\n\n\n\n\n\n\nWant to Grow your Business and Earn More Income?\nOvercome your fear of public speaking and deliver powerful presentations\nMarket your product or service well to grow your business\nCreate a sensational presentation\nDeliver your solution to people all over the world\nBe seen as the authority in your industry \n\n\n12th designedge innovation FESTIVAL \nSupported By
URL:https://belmontbec.com/event/prepare-present-make-money/
CATEGORIES:Events,Workshop
END:VEVENT
BEGIN:VEVENT
DTSTART;TZID=UTC:20160504T140000
DTEND;TZID=UTC:20160504T150000
DTSTAMP:20260424T001324
CREATED:20160426T184259Z
LAST-MODIFIED:20160426T231403Z
UID:3520-1462370400-1462374000@belmontbec.com
SUMMARY:Webinar - Quality Control in Apparel Manufacturing
DESCRIPTION:Be better prepared and organised to endure the best quality controls. \nClick here for product
URL:https://belmontbec.com/event/webinar-quality-control-in-apparel-manufacturing/
CATEGORIES:Webinar
ATTACH;FMTTYPE=image/jpeg:https://belmontbec.com/wp-content/uploads/2015/12/preview-11455-e1458544939294.jpg
END:VEVENT
BEGIN:VEVENT
DTSTART;TZID=UTC:20160504T130000
DTEND;TZID=UTC:20160504T140000
DTSTAMP:20260424T001324
CREATED:20160426T183803Z
LAST-MODIFIED:20160426T231405Z
UID:3519-1462366800-1462370400@belmontbec.com
SUMMARY:Webinar - What Fashion Buyers Are Really Looking For
DESCRIPTION:Understand today’s Fashion Buyer & what grabs their attention. \nClick here for product
URL:https://belmontbec.com/event/webinar-fashion-buyers-really-looking/
CATEGORIES:Webinar
ATTACH;FMTTYPE=image/jpeg:https://belmontbec.com/wp-content/uploads/2015/12/preview-11455-e1458544939294.jpg
END:VEVENT
BEGIN:VEVENT
DTSTART;TZID=UTC:20160504T110000
DTEND;TZID=UTC:20160504T120000
DTSTAMP:20260424T001324
CREATED:20160426T183801Z
LAST-MODIFIED:20160426T231407Z
UID:3517-1462359600-1462363200@belmontbec.com
SUMMARY:Webinar - Italian Fashion Media - How to Get Noticed
DESCRIPTION:Tips on how to get noticed by the Italian Fashion Media. \nClick here for product
URL:https://belmontbec.com/event/webinar-italian-fashion-media-get-noticed/
CATEGORIES:Webinar
ATTACH;FMTTYPE=image/jpeg:https://belmontbec.com/wp-content/uploads/2015/12/preview-11455-e1458544939294.jpg
END:VEVENT
BEGIN:VEVENT
DTSTART;TZID=UTC:20160503T160000
DTEND;TZID=UTC:20160503T170000
DTSTAMP:20260424T001324
CREATED:20160426T183758Z
LAST-MODIFIED:20160426T231408Z
UID:3516-1462291200-1462294800@belmontbec.com
SUMMARY:Webinar - Improve Your Work & Life Balance
DESCRIPTION:Get your life ‘back on track’. \nClick here for product
URL:https://belmontbec.com/event/webinar-improve-your-work-life-balance/
CATEGORIES:Webinar
ATTACH;FMTTYPE=image/jpeg:https://belmontbec.com/wp-content/uploads/2015/12/preview-11455-e1458544939294.jpg
END:VEVENT
BEGIN:VEVENT
DTSTART;TZID=UTC:20160503T130000
DTEND;TZID=UTC:20160503T140000
DTSTAMP:20260424T001324
CREATED:20160426T183756Z
LAST-MODIFIED:20160426T231410Z
UID:3515-1462280400-1462284000@belmontbec.com
SUMMARY:Webinar - Marketing on a Budget
DESCRIPTION:How to make the most of your marketing dollars. \nClick here for product
URL:https://belmontbec.com/event/webinar-marketing-on-a-budget/
CATEGORIES:Webinar
ATTACH;FMTTYPE=image/jpeg:https://belmontbec.com/wp-content/uploads/2015/12/preview-11455-e1458544939294.jpg
END:VEVENT
BEGIN:VEVENT
DTSTART;TZID=UTC:20160503T110000
DTEND;TZID=UTC:20160503T120000
DTSTAMP:20260424T001324
CREATED:20160426T183754Z
LAST-MODIFIED:20160426T231416Z
UID:3495-1462273200-1462276800@belmontbec.com
SUMMARY:Webinar - Writing Your Business Plan
DESCRIPTION:Write your Business Plan or review and update your existing plan.\nClick here for product
URL:https://belmontbec.com/event/webinar-writing-your-business-plan/
CATEGORIES:Webinar
ATTACH;FMTTYPE=image/jpeg:https://belmontbec.com/wp-content/uploads/2015/12/preview-11455-e1458544939294.jpg
END:VEVENT
BEGIN:VEVENT
DTSTART;TZID=UTC:20160503T100000
DTEND;TZID=UTC:20160503T110000
DTSTAMP:20260424T001324
CREATED:20160426T183751Z
LAST-MODIFIED:20160426T231415Z
UID:3510-1462269600-1462273200@belmontbec.com
SUMMARY:Webinar - How to Write a Tender or Grant Submission
DESCRIPTION:Develop your expertise at writing\, submitting orders & submissions. \nClick here for product
URL:https://belmontbec.com/event/webinar-write-tender-grant-submission/
CATEGORIES:Webinar
ATTACH;FMTTYPE=image/jpeg:https://belmontbec.com/wp-content/uploads/2015/12/preview-11455-e1458544939294.jpg
END:VEVENT
BEGIN:VEVENT
DTSTART;TZID=UTC:20160502T150000
DTEND;TZID=UTC:20160502T160000
DTSTAMP:20260424T001324
CREATED:20160426T183935Z
LAST-MODIFIED:20160426T231417Z
UID:3513-1462201200-1462204800@belmontbec.com
SUMMARY:Webinar - Preparing a Business for Sale
DESCRIPTION:Look at the sale of your business through the eyes of the buyer. \n Click here for Product
URL:https://belmontbec.com/event/preparing-a-business-for-sale/
CATEGORIES:Webinar
ATTACH;FMTTYPE=image/jpeg:https://belmontbec.com/wp-content/uploads/2015/12/preview-11455-e1458544939294.jpg
END:VEVENT
BEGIN:VEVENT
DTSTART;TZID=UTC:20160502T140000
DTEND;TZID=UTC:20160502T150000
DTSTAMP:20260424T001324
CREATED:20160426T182301Z
LAST-MODIFIED:20160426T231420Z
UID:3509-1462197600-1462201200@belmontbec.com
SUMMARY:Webinar - Preparing for a Fashion Trade Exhibition
DESCRIPTION:Steps to prepare before\, during and after a Trade Exhibition. \nClick here for product
URL:https://belmontbec.com/event/webinar-preparing-for-a-fashion-trade-exhibition/
CATEGORIES:Webinar
ATTACH;FMTTYPE=image/jpeg:https://belmontbec.com/wp-content/uploads/2015/12/preview-11455-e1458544939294.jpg
END:VEVENT
BEGIN:VEVENT
DTSTART;TZID=UTC:20160502T090000
DTEND;TZID=UTC:20160502T103000
DTSTAMP:20260424T001324
CREATED:20160413T230922Z
LAST-MODIFIED:20160413T230922Z
UID:3455-1462179600-1462185000@belmontbec.com
SUMMARY:Getting Online - Understanding How Video Builds Your Brand
DESCRIPTION:Getting Online – Understanding How Video Builds Your Brand\nwww.belmontbec.com/events\nMonday\, 2nd May  9am – 10:30am \nThis presentation looks at the power of video and how to use it to get online through websites\, LinkedIn\, YouTube\, Facebook and other social media. Todd explains the complete video production process from script writing to editing\, and what you need to get online.  \nThis workshop will cover: \n\nTypes of video for marketing\nThe video production process\nWhat equipment is required\nIntellectual Property considerations\nWhat you need to know about scripts\nHow to add interest to your video\n\nTodd will run through the tips on how to position you and your business online through video. \nAttendees will be given free access to an online course on Video Production\, featuring Todd Hutchison (Video Production Process)\, Shrene Strahan (Script Writing)\, Paula Smith (Presentation Skills)\, and Alba Gomez (Professional Image). \n  \n\n\n\n  \nAbout the Presenter \n\n  \nInternational bestselling business author\, behavioural consultant and professional speaker\, Todd Hutchison leads the global Peopleistic Group with offices in Australia\, USA\, UK and Singapore. Having spent his early career in film and television\, Todd is now the Chairman of Film My Video\, and helps individuals and businesses utilise videos to market and position themselves online. \n\n\n12th designedge innovation FESTIVAL \n Supported By
URL:https://belmontbec.com/event/understanding-how-video-builds-your-brand/
END:VEVENT
BEGIN:VEVENT
DTSTART;TZID=UTC:20160429T100000
DTEND;TZID=UTC:20160429T110000
DTSTAMP:20260424T001324
CREATED:20160426T182252Z
LAST-MODIFIED:20160426T231526Z
UID:3497-1461924000-1461927600@belmontbec.com
SUMMARY:Webinar - Avoiding Apparel Manufacturing Pitfalls
DESCRIPTION:Minimise problems before they become a major issue\, be prepared. \nClick here for Product
URL:https://belmontbec.com/event/webinar-avoiding-apparel-manufacturing-pitfalls/
ATTACH;FMTTYPE=image/jpeg:https://belmontbec.com/wp-content/uploads/2015/12/preview-11455-e1458544939294.jpg
END:VEVENT
BEGIN:VEVENT
DTSTART;TZID=UTC:20160428T093000
DTEND;TZID=UTC:20160428T233000
DTSTAMP:20260424T001324
CREATED:20160229T000042Z
LAST-MODIFIED:20160413T231747Z
UID:3172-1461835800-1461886200@belmontbec.com
SUMMARY:The Four Hidden Costs of Recruiting the Wrong Employee
DESCRIPTION:The Four Hidden Costs of Recruiting the Wrong Employee \n\n\n\n\n\n\n\n\n\n\n\n\n\n\n\n\n\n\n\n\n\n\n\n\nThrough this workshop you will learn: \n1. The devastating impact when the wrong person is hired.\n2. How your business can be taken to another level when the right person is hired\n\n\n\n\n  \n  \n\n\n\n\nAbout the Presenter \n\n\n\n\n\n\n\n\n\n\n\n\n\nDavid Osborne’s passion is employee performance\, selection and ensuring there is a RETURN ON INVESTMENT from every member of staff.  He has been honoured to work with many entrepreneurs and established global businesses to help them select employees who are competent\, culturally suitable and committed to the goals of the organisation.  David has had the previlege to assist companies identify additional value that can be derived from employees and to put processes in place to harness this value. \nDavid’s special passion is for business owners who have an entrepreneurial dream which could easily be sabotaged by a selection mistake. \n\n\n\n\n\n\n\n12th designedge innovation FESTIVAL \nSupported By
URL:https://belmontbec.com/event/the-four-hidden-costs-of-recruiting-the-wrong-employee/
CATEGORIES:Event List,Events,Workshop,Workshops List
END:VEVENT
BEGIN:VEVENT
DTSTART;TZID=UTC:20160428T010000
DTEND;TZID=UTC:20160428T160000
DTSTAMP:20260424T001324
CREATED:20160224T221124Z
LAST-MODIFIED:20160224T221124Z
UID:3109-1461805200-1461859200@belmontbec.com
SUMMARY:Tax for Small Business Workshop
DESCRIPTION:Tax for small business is a free workshop developed for small businesses.\nIt will provide you with an overview of the taxation and superannuation obligations associated with starting and operating your small business. \nThe workshop will look at subjects like\n·         different business structures\n·         registering your business\n·         goods and services tax\n·         income tax and claiming deductions\n·         record keeping\n·         how to prepare and lodge your activity statements \nThe workshop also covers employer obligations\, such as pay as you go withholding and superannuation\, if you have or are intending to employ people. \nRegister At: events@belmontbec.com
URL:https://belmontbec.com/event/tax-for-small-business-is-a-free-workshop-developed-for-small-businesses-it-will-provide-you-with-an-overview-of-the-taxation-and-superannuation-obligations-associated-with-starting-and-operating-you/
CATEGORIES:Events,Workshop
ATTACH;FMTTYPE=image/png:https://belmontbec.com/wp-content/uploads/2016/01/taxforsmallbusiness-e1454565452975.png
END:VEVENT
BEGIN:VEVENT
DTSTART;TZID=Australia/Perth:20160427T170000
DTEND;TZID=Australia/Perth:20160427T190000
DTSTAMP:20260424T001324
CREATED:20160203T201939Z
LAST-MODIFIED:20160410T181148Z
UID:2913-1461776400-1461783600@belmontbec.com
SUMMARY:Belmont Business 'Ask An Expert' Sundowner
DESCRIPTION:
URL:https://belmontbec.com/event/belmont-business-ask-an-expert-sundowner-4/
CATEGORIES:Events,Workshop,Workshops List
ATTACH;FMTTYPE=image/jpeg:https://belmontbec.com/wp-content/uploads/2016/02/BBS-draft-banner-no1-2-1-scaled.jpg
END:VEVENT
BEGIN:VEVENT
DTSTART;TZID=UTC:20160427T140000
DTEND;TZID=UTC:20160427T150000
DTSTAMP:20260424T001324
CREATED:20160426T181630Z
LAST-MODIFIED:20160426T231527Z
UID:3505-1461765600-1461769200@belmontbec.com
SUMMARY:Webinar - Importing and Exporting - Lowering Your Risks
DESCRIPTION:Lower the risk of failure when you import or export. \nClick here for business
URL:https://belmontbec.com/event/webinar-importing-and-exporting-lowering-your-risks/
CATEGORIES:Webinar
ATTACH;FMTTYPE=image/jpeg:https://belmontbec.com/wp-content/uploads/2015/12/preview-11455-e1458544939294.jpg
END:VEVENT
BEGIN:VEVENT
DTSTART;TZID=UTC:20160427T130000
DTEND;TZID=UTC:20160427T140000
DTSTAMP:20260424T001324
CREATED:20160426T181627Z
LAST-MODIFIED:20160426T231533Z
UID:3504-1461762000-1461765600@belmontbec.com
SUMMARY:Webinar - Global Platform - ITC Sourcing from Women in Business
DESCRIPTION:Linking women owned businesses around the globe – buying and selling. \nClick here for Product
URL:https://belmontbec.com/event/webinar-global-platform-itc-sourcing-from-women-in-business/
CATEGORIES:Webinar
ATTACH;FMTTYPE=image/jpeg:https://belmontbec.com/wp-content/uploads/2015/12/preview-11455-e1458544939294.jpg
END:VEVENT
BEGIN:VEVENT
DTSTART;TZID=UTC:20160422T130000
DTEND;TZID=UTC:20160422T140000
DTSTAMP:20260424T001324
CREATED:20160421T191950Z
LAST-MODIFIED:20160426T231541Z
UID:3499-1461330000-1461333600@belmontbec.com
SUMMARY:Webinar - Connect Your Business to the Women's Empowerment Principles - 1pm - 2pm
DESCRIPTION:United Nations Global Compact Women’s Empowerment Principles. \n Click here for product
URL:https://belmontbec.com/event/webinar-connect/
CATEGORIES:Events
ATTACH;FMTTYPE=image/jpeg:https://belmontbec.com/wp-content/uploads/2015/12/preview-11455-e1458544939294.jpg
END:VEVENT
BEGIN:VEVENT
DTSTART;TZID=UTC:20160422T100000
DTEND;TZID=UTC:20160422T110000
DTSTAMP:20260424T001324
CREATED:20160421T191432Z
LAST-MODIFIED:20160426T231540Z
UID:3498-1461319200-1461322800@belmontbec.com
SUMMARY:Webinar - Solar Energy 10am-11am
DESCRIPTION:How Solar works? How much power does it generate? Saving Energy. \n Click here for Product
URL:https://belmontbec.com/event/webinar-solar-energy/
CATEGORIES:Events
ATTACH;FMTTYPE=image/jpeg:https://belmontbec.com/wp-content/uploads/2015/12/preview-11455-e1458544939294.jpg
END:VEVENT
BEGIN:VEVENT
DTSTART;TZID=Australia/Perth:20160421T143000
DTEND;TZID=Australia/Perth:20160421T170000
DTSTAMP:20260424T001324
CREATED:20160203T193117Z
LAST-MODIFIED:20170130T223245Z
UID:2903-1461249000-1461258000@belmontbec.com
SUMMARY:Free Trade marks and Designs Workshop \, April 21st
DESCRIPTION:Bookings Now Open – Free Intellectual Property Forum\, April 21st\nLimited seats available for this outstanding Intellectual Property Forum hosted by Belmont BEC covering Trademarks\, Patents\, Design Copyright. Meet experts from IP Australia\, Canberra and local IP Attorneys.   Find out everything you need to know about Trademarks\, Patents and  Design Copyright.  Includes Afternoon Tea.  Function Room\, Belmont Hotel.  Bookings www.belmontbec.com/events
URL:https://belmontbec.com/event/free-intellectual-property-forum-april-21st/
ATTACH;FMTTYPE=image/jpeg:https://belmontbec.com/wp-content/uploads/2016/02/TM-Logo.jpg
END:VEVENT
BEGIN:VEVENT
DTSTART;TZID=UTC:20160406T080000
DTEND;TZID=UTC:20160406T170000
DTSTAMP:20260424T001324
CREATED:20160426T231548Z
LAST-MODIFIED:20160426T231548Z
UID:3496-1459929600-1459962000@belmontbec.com
SUMMARY:Webinar - Template
DESCRIPTION:Add to cart
URL:https://belmontbec.com/event/webinar-template/
CATEGORIES:Webinar
ATTACH;FMTTYPE=image/jpeg:https://belmontbec.com/wp-content/uploads/2015/12/preview-11455-e1458544939294.jpg
END:VEVENT
BEGIN:VEVENT
DTSTART;TZID=UTC:20160330T170000
DTEND;TZID=UTC:20160330T190000
DTSTAMP:20260424T001324
CREATED:20160309T183033Z
LAST-MODIFIED:20160309T183323Z
UID:3031-1459357200-1459364400@belmontbec.com
SUMMARY:Belmont Business 'Ask an Expert' Sundowner
DESCRIPTION:Guest Speakers: \n\nRick Lee (Community News) highlighting what  media stories to forward to your local paper and how to link with your local editor \nAngie Mardon (Combined Small Business Alliance of WA Inc.) will share small business issues tha CoSBA are lobbying the state or federal government \nDavid Osborne (Profitable Personnel) outlining the hidden costs of recruiting the wrong employee \nJean-Marc Aliphon (Infinite IT)providing tips on combating cybercrime on a small business budget \nDoor Prizes: Five ‘Door Prizes” Mobile Phone Power Bank Chargers sponsored by Telstra Business Centre Belmont; ‘Just About Everything A Retail Manager Needs to Know’ autographed by Author John Stanley; ‘Charthill Legal’s Real Estate Tips & Advice’ autographed by Jules Lewin; Friends of Belmont BEC Membership valued at $99. \nBuild your Business Networks! \nAll businesses attending will be invited to personally introduce themselves and their business.  \nJoin Friends of Belmont BEC: www.belmontbec.com/membership \nFree Entry\, Nibbles sponsored by The Belmont\, Drinks at Bar Prices\, Door Prizes.
URL:https://belmontbec.com/event/belmont-business-ask-expert-sundowner/
CATEGORIES:Events
ATTACH;FMTTYPE=image/jpeg:https://belmontbec.com/wp-content/uploads/2016/02/BBS-draft-banner-no1-2-e1454987676610.jpg
END:VEVENT
BEGIN:VEVENT
DTSTART;TZID=UTC:20160321T130000
DTEND;TZID=UTC:20160321T160000
DTSTAMP:20260424T001324
CREATED:20160224T211638Z
LAST-MODIFIED:20160301T191246Z
UID:3104-1458565200-1458576000@belmontbec.com
SUMMARY:Tax for Small Business Workshop
DESCRIPTION:Tax for small business is a free workshop developed for small businesses.\nIt will provide you with an overview of the taxation and superannuation obligations associated with starting and operating your small business. \nThe workshop will look at subjects like\n·         different business structures\n·         registering your business\n·         goods and services tax\n·         income tax and claiming deductions\n·         record keeping\n·         how to prepare and lodge your activity statements \nThe workshop also covers employer obligations\, such as pay as you go withholding and superannuation\, if you have or are intending to employ people. \n 
URL:https://belmontbec.com/event/tax-for-small-business-workshop/
CATEGORIES:Events,Workshop
ATTACH;FMTTYPE=image/png:https://belmontbec.com/wp-content/uploads/2016/01/taxforsmallbusiness-e1454565452975.png
END:VEVENT
BEGIN:VEVENT
DTSTART;TZID=Australia/Perth:20160225T130000
DTEND;TZID=Australia/Perth:20160225T160000
DTSTAMP:20260424T001324
CREATED:20160110T221520Z
LAST-MODIFIED:20170130T224157Z
UID:2580-1456405200-1456416000@belmontbec.com
SUMMARY:Tax for small business Workshop
DESCRIPTION:Tax for small business is a free workshop developed for small businesses.\nIt will provide you with an overview of the taxation and superannuation obligations associated with starting and operating your small business. \nThe workshop will look at subjects like\n·         different business structures\n·         registering your business\n·         goods and services tax\n·         income tax and claiming deductions\n·         record keeping\n·         how to prepare and lodge your activity statements \nThe workshop also covers employer obligations\, such as pay as you go withholding and superannuation\, if you have or are intending to employ people. \nRegister At: events@belmontbec.com
URL:https://belmontbec.com/event/tax-for-small-business-workshops/
ATTACH;FMTTYPE=image/png:https://belmontbec.com/wp-content/uploads/2016/01/taxforsmallbusiness-e1454565452975.png
END:VEVENT
BEGIN:VEVENT
DTSTART;TZID=Australia/Perth:20160224T170000
DTEND;TZID=Australia/Perth:20160224T190000
DTSTAMP:20260424T001324
CREATED:20160201T183244Z
LAST-MODIFIED:20160215T234347Z
UID:2822-1456333200-1456340400@belmontbec.com
SUMMARY:Belmont Business 'Ask An Expert' Sundowner
DESCRIPTION:Guest Speakers: \nSue Papadoulis (Publicity for Profit) outlining how to get free publicity on TV\, radio\, newspapers\, magazines and online for you or your business \nElena Volodchenko (Website Masters) – providing tips on getting the best results from google adwords to improve traffic to your website and online shopping site. \nBrendan Cockram (Performance Business Sales) – insights on how to prepare your business for sale\, what buyers are looking for and what type of businesses are in demand in 2016. \nCarol Hanlon  (Belmont BEC\, TCFWA) – update on upcoming the ‘Women in Business’ Forum being presented by BBEC & TCFWA during United Nations CSW60\, New York \nDoor Prizes: Five ‘Door Prizes” Mobile Phone Power Bank Chargers sponsored by Telstra Business Centre Belmont; Coffee Gift Pack sponsored by Passion4PNG; Friends of Belmont BEC Membership valued at $99. \nBuild your Business Networks! \nAll businesses attending will be invited to personally introduce themselves and their business.  \nJoin Friends of Belmont BEC: www.belmontbec.com/membership \nFree Entry\, Nibbles sponsored by The Belmont\, Drinks at Bar Prices\, Door Prizes. \n Register At: events@belmontbec.com
URL:https://belmontbec.com/event/belmont-business-ask-an-expert-sundowner-2/
CATEGORIES:Event List,Events,Workshop
ATTACH;FMTTYPE=image/jpeg:https://belmontbec.com/wp-content/uploads/2016/02/BBS-draft-banner-no1-2-e1454987676610.jpg
END:VEVENT
END:VCALENDAR