BEGIN:VCALENDAR
VERSION:2.0
PRODID:-//Belmont BEC - ECPv6.15.20//NONSGML v1.0//EN
CALSCALE:GREGORIAN
METHOD:PUBLISH
X-WR-CALNAME:Belmont BEC
X-ORIGINAL-URL:https://belmontbec.com
X-WR-CALDESC:Events for Belmont BEC
REFRESH-INTERVAL;VALUE=DURATION:PT1H
X-Robots-Tag:noindex
X-PUBLISHED-TTL:PT1H
BEGIN:VTIMEZONE
TZID:UTC
BEGIN:STANDARD
TZOFFSETFROM:+0000
TZOFFSETTO:+0000
TZNAME:UTC
DTSTART:20150101T000000
END:STANDARD
END:VTIMEZONE
BEGIN:VEVENT
DTSTART;TZID=UTC:20160127T170000
DTEND;TZID=UTC:20160127T190000
DTSTAMP:20260424T015719
CREATED:20160105T181734Z
LAST-MODIFIED:20160329T225446Z
UID:2537-1453914000-1453921200@belmontbec.com
SUMMARY:Belmont Business 'Ask An Expert' Sundowner
DESCRIPTION:
URL:https://belmontbec.com/event/belmont-business-ask-an-expert-sundowner/
CATEGORIES:Workshop
ATTACH;FMTTYPE=image/jpeg:https://belmontbec.com/wp-content/uploads/2016/01/Sundowner-No-Date-3-1024x294.jpg
END:VEVENT
END:VCALENDAR